BEGIN:VCALENDAR
VERSION:2.0
PRODID:-//Salem Willows Yacht Club - ECPv6.15.20//NONSGML v1.0//EN
CALSCALE:GREGORIAN
METHOD:PUBLISH
X-ORIGINAL-URL:https://swyc.com
X-WR-CALDESC:Events for Salem Willows Yacht Club
REFRESH-INTERVAL;VALUE=DURATION:PT1H
X-Robots-Tag:noindex
X-PUBLISHED-TTL:PT1H
BEGIN:VTIMEZONE
TZID:America/New_York
BEGIN:DAYLIGHT
TZOFFSETFROM:-0500
TZOFFSETTO:-0400
TZNAME:EDT
DTSTART:20220313T070000
END:DAYLIGHT
BEGIN:STANDARD
TZOFFSETFROM:-0400
TZOFFSETTO:-0500
TZNAME:EST
DTSTART:20221106T060000
END:STANDARD
BEGIN:DAYLIGHT
TZOFFSETFROM:-0500
TZOFFSETTO:-0400
TZNAME:EDT
DTSTART:20230312T070000
END:DAYLIGHT
BEGIN:STANDARD
TZOFFSETFROM:-0400
TZOFFSETTO:-0500
TZNAME:EST
DTSTART:20231105T060000
END:STANDARD
BEGIN:DAYLIGHT
TZOFFSETFROM:-0500
TZOFFSETTO:-0400
TZNAME:EDT
DTSTART:20240310T070000
END:DAYLIGHT
BEGIN:STANDARD
TZOFFSETFROM:-0400
TZOFFSETTO:-0500
TZNAME:EST
DTSTART:20241103T060000
END:STANDARD
END:VTIMEZONE
BEGIN:VEVENT
DTSTART;TZID=America/New_York:20230913T190000
DTEND;TZID=America/New_York:20230913T210000
DTSTAMP:20260425T160040
CREATED:20230901T123420Z
LAST-MODIFIED:20230901T123420Z
UID:4496-1694631600-1694638800@swyc.com
SUMMARY:SWYC Long Range Planning Meeting
DESCRIPTION:
URL:https://swyc.com/event/swyc-long-range-planning-meeting/
LOCATION:Salem Willows Yacht Club\, 190 Fort Ave\, Salem\, MA\, 01970\, United States
CATEGORIES:BOG Meeting
ATTACH;FMTTYPE=image/jpeg:https://swyc.com/wp-content/uploads/2018/06/IMG_3280-1.jpg
END:VEVENT
BEGIN:VEVENT
DTSTART;TZID=America/New_York:20230927T190000
DTEND;TZID=America/New_York:20230927T213000
DTSTAMP:20260425T160040
CREATED:20230315T201717Z
LAST-MODIFIED:20230315T201717Z
UID:4051-1695841200-1695850200@swyc.com
SUMMARY:September 2023 BOG Meeting
DESCRIPTION:BOG Election
URL:https://swyc.com/event/september-2023-bog-meeting/
LOCATION:MA
CATEGORIES:BOG Meeting
ATTACH;FMTTYPE=image/png:https://swyc.com/wp-content/uploads/2022/04/SWYC-BOG-6-01.png
END:VEVENT
END:VCALENDAR