BEGIN:VCALENDAR
VERSION:2.0
PRODID:-//Salem Willows Yacht Club - ECPv6.15.20//NONSGML v1.0//EN
CALSCALE:GREGORIAN
METHOD:PUBLISH
X-WR-CALNAME:Salem Willows Yacht Club
X-ORIGINAL-URL:https://swyc.com
X-WR-CALDESC:Events for Salem Willows Yacht Club
REFRESH-INTERVAL;VALUE=DURATION:PT1H
X-Robots-Tag:noindex
X-PUBLISHED-TTL:PT1H
BEGIN:VTIMEZONE
TZID:America/New_York
BEGIN:DAYLIGHT
TZOFFSETFROM:-0500
TZOFFSETTO:-0400
TZNAME:EDT
DTSTART:20230312T070000
END:DAYLIGHT
BEGIN:STANDARD
TZOFFSETFROM:-0400
TZOFFSETTO:-0500
TZNAME:EST
DTSTART:20231105T060000
END:STANDARD
BEGIN:DAYLIGHT
TZOFFSETFROM:-0500
TZOFFSETTO:-0400
TZNAME:EDT
DTSTART:20240310T070000
END:DAYLIGHT
BEGIN:STANDARD
TZOFFSETFROM:-0400
TZOFFSETTO:-0500
TZNAME:EST
DTSTART:20241103T060000
END:STANDARD
BEGIN:DAYLIGHT
TZOFFSETFROM:-0500
TZOFFSETTO:-0400
TZNAME:EDT
DTSTART:20250309T070000
END:DAYLIGHT
BEGIN:STANDARD
TZOFFSETFROM:-0400
TZOFFSETTO:-0500
TZNAME:EST
DTSTART:20251102T060000
END:STANDARD
END:VTIMEZONE
BEGIN:VEVENT
DTSTART;TZID=America/New_York:20240928T123000
DTEND;TZID=America/New_York:20240928T150000
DTSTAMP:20260425T171006
CREATED:20240917T130830Z
LAST-MODIFIED:20240917T130830Z
UID:5200-1727526600-1727535600@swyc.com
SUMMARY:SWYC Club Boating Open House Sat Sept 28
DESCRIPTION:SWYC Club Boating Open House Sat Sept 28\n\n\n\n\n\n\n\n\n\n\n\n\n\n\nIn 2024\, Salem Willows Yacht Club approved a group of us to start a new adult boat share program to provide more access to sailing on the North Shore. \nWe will be hosting an open house on Saturday September 28th at 12:30 PM at the Club. We’re inviting you to come learn more about this program and to consider joining and helping it grow. \nThere will be some food and drink. \nRSVP appreciated to clubboating@swyc.com — but last minute attendees also welcome.
URL:https://swyc.com/event/swyc-club-boating-open-house-sat-sept-28/
LOCATION:Salem Willows Yacht Club\, 190 Fort Ave\, Salem\, MA\, 01970\, United States
CATEGORIES:Education
ATTACH;FMTTYPE=image/jpeg:https://swyc.com/wp-content/uploads/2024/05/Picture1.jpg
END:VEVENT
END:VCALENDAR