BEGIN:VCALENDAR
VERSION:2.0
PRODID:-//Salem Willows Yacht Club - ECPv6.15.20//NONSGML v1.0//EN
CALSCALE:GREGORIAN
METHOD:PUBLISH
X-WR-CALNAME:Salem Willows Yacht Club
X-ORIGINAL-URL:https://swyc.com
X-WR-CALDESC:Events for Salem Willows Yacht Club
REFRESH-INTERVAL;VALUE=DURATION:PT1H
X-Robots-Tag:noindex
X-PUBLISHED-TTL:PT1H
BEGIN:VTIMEZONE
TZID:America/New_York
BEGIN:DAYLIGHT
TZOFFSETFROM:-0500
TZOFFSETTO:-0400
TZNAME:EDT
DTSTART:20210314T070000
END:DAYLIGHT
BEGIN:STANDARD
TZOFFSETFROM:-0400
TZOFFSETTO:-0500
TZNAME:EST
DTSTART:20211107T060000
END:STANDARD
BEGIN:DAYLIGHT
TZOFFSETFROM:-0500
TZOFFSETTO:-0400
TZNAME:EDT
DTSTART:20220313T070000
END:DAYLIGHT
BEGIN:STANDARD
TZOFFSETFROM:-0400
TZOFFSETTO:-0500
TZNAME:EST
DTSTART:20221106T060000
END:STANDARD
BEGIN:DAYLIGHT
TZOFFSETFROM:-0500
TZOFFSETTO:-0400
TZNAME:EDT
DTSTART:20230312T070000
END:DAYLIGHT
BEGIN:STANDARD
TZOFFSETFROM:-0400
TZOFFSETTO:-0500
TZNAME:EST
DTSTART:20231105T060000
END:STANDARD
BEGIN:DAYLIGHT
TZOFFSETFROM:-0500
TZOFFSETTO:-0400
TZNAME:EDT
DTSTART:20240310T070000
END:DAYLIGHT
BEGIN:STANDARD
TZOFFSETFROM:-0400
TZOFFSETTO:-0500
TZNAME:EST
DTSTART:20241103T060000
END:STANDARD
BEGIN:DAYLIGHT
TZOFFSETFROM:-0500
TZOFFSETTO:-0400
TZNAME:EDT
DTSTART:20250309T070000
END:DAYLIGHT
BEGIN:STANDARD
TZOFFSETFROM:-0400
TZOFFSETTO:-0500
TZNAME:EST
DTSTART:20251102T060000
END:STANDARD
BEGIN:DAYLIGHT
TZOFFSETFROM:-0500
TZOFFSETTO:-0400
TZNAME:EDT
DTSTART:20260308T070000
END:DAYLIGHT
BEGIN:STANDARD
TZOFFSETFROM:-0400
TZOFFSETTO:-0500
TZNAME:EST
DTSTART:20261101T060000
END:STANDARD
END:VTIMEZONE
BEGIN:VTIMEZONE
TZID:America/New_York
BEGIN:DAYLIGHT
TZOFFSETFROM:-0500
TZOFFSETTO:-0400
TZNAME:EDT
DTSTART:20180311T070000
END:DAYLIGHT
BEGIN:STANDARD
TZOFFSETFROM:-0400
TZOFFSETTO:-0500
TZNAME:EST
DTSTART:20181104T060000
END:STANDARD
BEGIN:DAYLIGHT
TZOFFSETFROM:-0500
TZOFFSETTO:-0400
TZNAME:EDT
DTSTART:20190310T070000
END:DAYLIGHT
BEGIN:STANDARD
TZOFFSETFROM:-0400
TZOFFSETTO:-0500
TZNAME:EST
DTSTART:20191103T060000
END:STANDARD
BEGIN:DAYLIGHT
TZOFFSETFROM:-0500
TZOFFSETTO:-0400
TZNAME:EDT
DTSTART:20200308T070000
END:DAYLIGHT
BEGIN:STANDARD
TZOFFSETFROM:-0400
TZOFFSETTO:-0500
TZNAME:EST
DTSTART:20201101T060000
END:STANDARD
END:VTIMEZONE
BEGIN:VEVENT
DTSTART;TZID=America/New_York:20250628T080000
DTEND;TZID=America/New_York:20250628T120000
DTSTAMP:20260424T101053
CREATED:20250216T161310Z
LAST-MODIFIED:20250622T163629Z
UID:5333-1751097600-1751112000@swyc.com
SUMMARY:Boat Inspection
DESCRIPTION:Boat Inspection
URL:https://swyc.com/event/boat-inspection-3/
LOCATION:SWYC
CATEGORIES:Education,On the Water
ATTACH;FMTTYPE=image/png:https://swyc.com/wp-content/uploads/2025/02/vessel_safety_check.png
ORGANIZER;CN="Anne Olenio":MAILTO:aolenio16@gmail.com
END:VEVENT
BEGIN:VEVENT
DTSTART;TZID=America/New_York:20250504T123000
DTEND;TZID=America/New_York:20250504T153000
DTSTAMP:20260424T101053
CREATED:20250327T122640Z
LAST-MODIFIED:20250414T111952Z
UID:5464-1746361800-1746372600@swyc.com
SUMMARY:Club Boating Open House
DESCRIPTION:In 2024\, Salem Willows Yacht Club approved the creation of a new adult boat share program. We aspire to provide more access to sailing on the North Shore for those who do not have a boat\, including those who may be newer to the sport.  \n\nSeveral of you have joined\, some of you have started the process\, some of you have expressed interest and some are supporters of the program. \n\nWe are excited to let you know that we’re back for the 2025 season\, that we are working to upgrade our processes and our Rhodes 19\, INDIGO\, to announce (some of you heard already last fall) the addition of a second Rhodes 19 (still to be named) to the fleet AND that we hope to be launching a third\, higher performance boat (Flying Scot) this season for qualified members (BIG THANK YOU to Beverly Sailing Association!). \nPlease come to our Open House on May 4 at 12:30 meet with others\, share ideas and learn more about this program and how you can participate: Salem Willows Yacht Club 165 Fort Ave Salem (in Salem Willows Park). \n\n\nRSVP much appreciated to clubboating@swyc.com to help us plan for having some snacks and beverage — but last minute attendees also welcome.
URL:https://swyc.com/event/club-boating-open-house/
LOCATION:Salem Willows Yacht Club\, 190 Fort Ave\, Salem\, MA\, 01970\, United States
CATEGORIES:Education
ATTACH;FMTTYPE=image/jpeg:https://swyc.com/wp-content/uploads/2024/05/Picture1.jpg
END:VEVENT
BEGIN:VEVENT
DTSTART;TZID=America/New_York:20240928T123000
DTEND;TZID=America/New_York:20240928T150000
DTSTAMP:20260424T101053
CREATED:20240917T130830Z
LAST-MODIFIED:20240917T130830Z
UID:5200-1727526600-1727535600@swyc.com
SUMMARY:SWYC Club Boating Open House Sat Sept 28
DESCRIPTION:SWYC Club Boating Open House Sat Sept 28\n\n\n\n\n\n\n\n\n\n\n\n\n\n\nIn 2024\, Salem Willows Yacht Club approved a group of us to start a new adult boat share program to provide more access to sailing on the North Shore. \nWe will be hosting an open house on Saturday September 28th at 12:30 PM at the Club. We’re inviting you to come learn more about this program and to consider joining and helping it grow. \nThere will be some food and drink. \nRSVP appreciated to clubboating@swyc.com — but last minute attendees also welcome.
URL:https://swyc.com/event/swyc-club-boating-open-house-sat-sept-28/
LOCATION:Salem Willows Yacht Club\, 190 Fort Ave\, Salem\, MA\, 01970\, United States
CATEGORIES:Education
ATTACH;FMTTYPE=image/jpeg:https://swyc.com/wp-content/uploads/2024/05/Picture1.jpg
END:VEVENT
BEGIN:VEVENT
DTSTART;TZID=America/New_York:20230624T083000
DTEND;TZID=America/New_York:20230624T120000
DTSTAMP:20260424T101053
CREATED:20230425T140014Z
LAST-MODIFIED:20230620T180202Z
UID:4223-1687595400-1687608000@swyc.com
SUMMARY:Boat Inspections
DESCRIPTION:The Coast Guard Auxiliary will be conducting courtesy vessel exams on Saturday\, June 24. We will begin at approximately 8:30 AM and will be done around noon. If you have not signed up for your courtesy exam and wish to do so\,  send an email to Anne Olenio at: aolenio16@gmail.com . \nWe look forward to seeing you on Saturday. \nAnne Olenio\nUS Coast Guard Auxiliary\n_______________________________________________
URL:https://swyc.com/event/boat-inspections/
LOCATION:Salem Willows Yacht Club\, 190 Fort Ave\, Salem\, MA\, 01970\, United States
CATEGORIES:Education,Member Event
ATTACH;FMTTYPE=image/jpeg:https://swyc.com/wp-content/uploads/2021/06/Vessel-ssafety-check-e1624202957414.jpg
ORGANIZER;CN="Anne Olenio":MAILTO:aolenio16@gmail.com
END:VEVENT
BEGIN:VEVENT
DTSTART;TZID=America/New_York:20220625T080000
DTEND;TZID=America/New_York:20220625T170000
DTSTAMP:20260424T101053
CREATED:20220407T155114Z
LAST-MODIFIED:20220910T124119Z
UID:3527-1656144000-1656176400@swyc.com
SUMMARY:Boat Inspection
DESCRIPTION:Sign up is at the club.
URL:https://swyc.com/event/boat-inspection/
LOCATION:Salem Willows Yacht Club\, 190 Fort Ave\, Salem\, MA\, 01970\, United States
CATEGORIES:Education,Member Event,On the Water
ORGANIZER;CN="Anne Olenio":MAILTO:aolenio16@gmail.com
END:VEVENT
BEGIN:VEVENT
DTSTART;TZID=America/New_York:20190805T190000
DTEND;TZID=America/New_York:20190805T203000
DTSTAMP:20260424T101053
CREATED:20190520T131638Z
LAST-MODIFIED:20220910T124141Z
UID:2067-1565031600-1565037000@swyc.com
SUMMARY:Seminar on Weather Basics - session 2
DESCRIPTION:Member Al Pszenny will present a two-part U.S. Power Squadrons seminar that introduces the basics of our mid-latitude weather\, professional forecasts and their sources\, and the use of observations to refine professional forecasts. Topics include: \n\nWhat causes weather\nHow weather systems move\nWhy winds blow\nWhat clouds tell us\nHow storms and fronts create bad weather\nWhy fog forms\nWhere to get the best professional forecasts\nHow to refine them using your own observations\n\nPresentations will be on Monday evenings\, July 22nd and August 5th\, 7 to 8:30 pm at the club. Cost is $15 for SWYC and/or Power Squadron members\, $20 for others. You will get a 22-page reference guide containing a summary of major points covered in the slide presentations and including a table of forecasting tips and a list of internet weather resources. \nPlease sign up at the club or by email to alex_pszenny@my.uri.edu by June 14th. Be sure to note whether you want the reference guide or not and how many others will accompany you.
URL:https://swyc.com/event/seminar-on-weather-basics-session-2/
LOCATION:Salem Willows Yacht Club\, 190 Fort Ave\, Salem\, MA\, 01970\, United States
CATEGORIES:Education
ATTACH;FMTTYPE=image/jpeg:https://swyc.com/wp-content/uploads/2019/05/aerial-view-atmosphere-clouds-76969-1.jpg
ORGANIZER;CN="Alex Pzenny":MAILTO:alex_pszenny@my.uri.edu
END:VEVENT
BEGIN:VEVENT
DTSTART;TZID=America/New_York:20190722T190000
DTEND;TZID=America/New_York:20190722T203000
DTSTAMP:20260424T101053
CREATED:20190520T131446Z
LAST-MODIFIED:20220910T124143Z
UID:2062-1563822000-1563827400@swyc.com
SUMMARY:Seminar on Weather Basics
DESCRIPTION:Member Al Pszenny will present a two-part U.S. Power Squadrons seminar that introduces the basics of our mid-latitude weather\, professional forecasts and their sources\, and the use of observations to refine professional forecasts. Topics include: \n\nWhat causes weather\nHow weather systems move\nWhy winds blow\nWhat clouds tell us\nHow storms and fronts create bad weather\nWhy fog forms\nWhere to get the best professional forecasts\nHow to refine them using your own observations\n\nPresentations will be on Monday evenings\, July 22nd and 29th\, 7 to 8:30 pm at the club. Cost is $15 for SWYC and/or Power Squadron members\, $20 for others. You will get a 22-page reference guide containing a summary of major points covered in the slide presentations and including a table of forecasting tips and a list of internet weather resources. \nPlease sign up at the club or by email to alex_pszenny@my.uri.edu by June 14th. Be sure to note whether you want the reference guide or not and how many others will accompany you.
URL:https://swyc.com/event/seminar-on-weather-basics/
LOCATION:Salem Willows Yacht Club\, 190 Fort Ave\, Salem\, MA\, 01970\, United States
CATEGORIES:Education
ATTACH;FMTTYPE=image/jpeg:https://swyc.com/wp-content/uploads/2019/05/aerial-view-atmosphere-clouds-76969-1.jpg
ORGANIZER;CN="Alex Pzenny":MAILTO:alex_pszenny@my.uri.edu
END:VEVENT
BEGIN:VEVENT
DTSTART;TZID=America/New_York:20190622T080000
DTEND;TZID=America/New_York:20190622T120000
DTSTAMP:20260424T101053
CREATED:20190430T133512Z
LAST-MODIFIED:20220910T123602Z
UID:1832-1561190400-1561204800@swyc.com
SUMMARY:US Coast Guard Aux Boating Inspections
DESCRIPTION:As we are preparing our boats for the 2019 recreational boating season\, now is a good time to check your USCG required equipment an replace any equipment which is outdated or worn out.  The SWYC Annual USCGAUX Vessel Inspection day is scheduled for Saturday June 22nd\, from 8am until finished.  There will be “Federal Equipment Requirements and Safety Booklets” available inside the Club in advance of the June 22nd date.  Be sure to take a look at the requirements and purchase new flares or fire extinguishers in advance\, if needed.  A signup sheet will be posted on the Club Bulletin board on or about the first week of June.  For any information or questions\, please contact Steve Daly at ssdaly@verizon.net.    If you cannot make the inspections on June 22nd\, please contact Anne Olenio at clydeo300@comcast.net to schedule another day. \n  \nSteve Daly\, USCG Aux
URL:https://swyc.com/event/us-coast-guard-aux-boating-inspections/
LOCATION:Salem Willows Yacht Club\, 190 Fort Ave\, Salem\, MA\, 01970\, United States
CATEGORIES:Education,On the Water
ATTACH;FMTTYPE=image/png:https://swyc.com/wp-content/uploads/2019/04/Boats-in-Marina-logo.png
ORGANIZER;CN="Steve Daly":MAILTO:ssdaly@verizon.net
END:VEVENT
BEGIN:VEVENT
DTSTART;TZID=America/New_York:20190610T180000
DTEND;TZID=America/New_York:20190610T210000
DTSTAMP:20260424T101053
CREATED:20190527T214513Z
LAST-MODIFIED:20220910T124355Z
UID:2129-1560189600-1560200400@swyc.com
SUMMARY:CPR/AED Class
DESCRIPTION:Mike Merriman is running a CPR/AED certification class for a bunch of the launch operators.  If you’re interested in certification later in the summer let him know.
URL:https://swyc.com/event/cpr-aed-class/
LOCATION:Salem Willows Yacht Club\, 190 Fort Ave\, Salem\, MA\, 01970\, United States
CATEGORIES:Education
ATTACH;FMTTYPE=image/gif:https://swyc.com/wp-content/uploads/2019/05/546386.gif
ORGANIZER;CN="Mike Merriman":MAILTO:mike.merriman1@icloud.com
END:VEVENT
END:VCALENDAR