BEGIN:VCALENDAR
VERSION:2.0
PRODID:-//Salem Willows Yacht Club - ECPv6.15.20//NONSGML v1.0//EN
CALSCALE:GREGORIAN
METHOD:PUBLISH
X-ORIGINAL-URL:https://swyc.com
X-WR-CALDESC:Events for Salem Willows Yacht Club
REFRESH-INTERVAL;VALUE=DURATION:PT1H
X-Robots-Tag:noindex
X-PUBLISHED-TTL:PT1H
BEGIN:VTIMEZONE
TZID:America/New_York
BEGIN:DAYLIGHT
TZOFFSETFROM:-0500
TZOFFSETTO:-0400
TZNAME:EDT
DTSTART:20230312T070000
END:DAYLIGHT
BEGIN:STANDARD
TZOFFSETFROM:-0400
TZOFFSETTO:-0500
TZNAME:EST
DTSTART:20231105T060000
END:STANDARD
BEGIN:DAYLIGHT
TZOFFSETFROM:-0500
TZOFFSETTO:-0400
TZNAME:EDT
DTSTART:20240310T070000
END:DAYLIGHT
BEGIN:STANDARD
TZOFFSETFROM:-0400
TZOFFSETTO:-0500
TZNAME:EST
DTSTART:20241103T060000
END:STANDARD
BEGIN:DAYLIGHT
TZOFFSETFROM:-0500
TZOFFSETTO:-0400
TZNAME:EDT
DTSTART:20250309T070000
END:DAYLIGHT
BEGIN:STANDARD
TZOFFSETFROM:-0400
TZOFFSETTO:-0500
TZNAME:EST
DTSTART:20251102T060000
END:STANDARD
END:VTIMEZONE
BEGIN:VEVENT
DTSTART;TZID=America/New_York:20241003T183000
DTEND;TZID=America/New_York:20241003T203000
DTSTAMP:20260425T184211
CREATED:20240422T163459Z
LAST-MODIFIED:20240422T212120Z
UID:4838-1727980200-1727987400@swyc.com
SUMMARY:Salem Haunted Happenings Parade
DESCRIPTION:
URL:https://swyc.com/event/salem-haunted-happenings-parade/
LOCATION:Downtown Salem
CATEGORIES:Entertainment,Non SWYC Event
ATTACH;FMTTYPE=image/png:https://swyc.com/wp-content/uploads/2024/04/haunted-happenings.png
END:VEVENT
BEGIN:VEVENT
DTSTART;TZID=America/New_York:20241012T120000
DTEND;TZID=America/New_York:20241012T170000
DTSTAMP:20260425T184211
CREATED:20240422T163536Z
LAST-MODIFIED:20240930T224546Z
UID:4841-1728734400-1728752400@swyc.com
SUMMARY:Closing Party - Italian Night
DESCRIPTION:Closing Party  \nPasta Bar \nSaturday October 12 \nNoon \nThis year’s theme will be Italian. \nPasta (regular AND gluten-free) \nSauce (Tomato Sauce and Alfredo Sauce) \nMeatballs (meatballs and non-meatballs) \nSausages     Garden Salad \nGarlic Bread     Dessert \nBYOB (soda & water will be provided) \n$10.00 per person \nRSVP by October 9th \nRSVP by either signing up at the club or emailing me at Elvira.Schoenthal@gmail.com. If you email me\, I will respond to let me know I received your RSVP. If you don’t hear from me\, send me again \nREMEMBER: if you sign up and don’t show up\, you will still be charged the $10 per person \nCome help finish off the year with a bang. \nElvira Schoenthal and Julie Menard – Chair-chics.
URL:https://swyc.com/event/closing-party-italian-night/
LOCATION:Salem Willows Yacht Club\, 190 Fort Ave\, Salem\, MA\, 01970\, United States
CATEGORIES:Entertainment
ATTACH;FMTTYPE=image/jpeg:https://swyc.com/wp-content/uploads/2024/04/shutterstock_1161574414_bufett_brunch_essen_antipasti.jpg
END:VEVENT
END:VCALENDAR