BEGIN:VCALENDAR
VERSION:2.0
PRODID:-//Salem Willows Yacht Club - ECPv6.15.20//NONSGML v1.0//EN
CALSCALE:GREGORIAN
METHOD:PUBLISH
X-ORIGINAL-URL:https://swyc.com
X-WR-CALDESC:Events for Salem Willows Yacht Club
REFRESH-INTERVAL;VALUE=DURATION:PT1H
X-Robots-Tag:noindex
X-PUBLISHED-TTL:PT1H
BEGIN:VTIMEZONE
TZID:America/New_York
BEGIN:DAYLIGHT
TZOFFSETFROM:-0500
TZOFFSETTO:-0400
TZNAME:EDT
DTSTART:20240310T070000
END:DAYLIGHT
BEGIN:STANDARD
TZOFFSETFROM:-0400
TZOFFSETTO:-0500
TZNAME:EST
DTSTART:20241103T060000
END:STANDARD
BEGIN:DAYLIGHT
TZOFFSETFROM:-0500
TZOFFSETTO:-0400
TZNAME:EDT
DTSTART:20250309T070000
END:DAYLIGHT
BEGIN:STANDARD
TZOFFSETFROM:-0400
TZOFFSETTO:-0500
TZNAME:EST
DTSTART:20251102T060000
END:STANDARD
BEGIN:DAYLIGHT
TZOFFSETFROM:-0500
TZOFFSETTO:-0400
TZNAME:EDT
DTSTART:20260308T070000
END:DAYLIGHT
BEGIN:STANDARD
TZOFFSETFROM:-0400
TZOFFSETTO:-0500
TZNAME:EST
DTSTART:20261101T060000
END:STANDARD
END:VTIMEZONE
BEGIN:VEVENT
DTSTART;TZID=America/New_York:20250207T180000
DTEND;TZID=America/New_York:20250207T210000
DTSTAMP:20260425T112659
CREATED:20250122T131556Z
LAST-MODIFIED:20250122T131641Z
UID:5258-1738951200-1738962000@swyc.com
SUMMARY:Sandy Point Sailing Trivia Night
DESCRIPTION:Sandy Point Sailing is organizing a Trivia Night as a fundraising event that will be held at JYC on Friday February 7\, starting at 6:00 PM. \n  \nFor more details see here. \n  \nReserve Now
URL:https://swyc.com/event/sandy-point-sailing-trivia-night/
LOCATION:Jubilee Yacht Club
CATEGORIES:Entertainment
ATTACH;FMTTYPE=application/pdf:https://swyc.com/wp-content/uploads/2025/01/Trivia-flyer-Rev2.pdf
END:VEVENT
END:VCALENDAR