BEGIN:VCALENDAR
VERSION:2.0
PRODID:-//Salem Willows Yacht Club - ECPv6.15.20//NONSGML v1.0//EN
CALSCALE:GREGORIAN
METHOD:PUBLISH
X-ORIGINAL-URL:https://swyc.com
X-WR-CALDESC:Events for Salem Willows Yacht Club
REFRESH-INTERVAL;VALUE=DURATION:PT1H
X-Robots-Tag:noindex
X-PUBLISHED-TTL:PT1H
BEGIN:VTIMEZONE
TZID:America/New_York
BEGIN:DAYLIGHT
TZOFFSETFROM:-0500
TZOFFSETTO:-0400
TZNAME:EDT
DTSTART:20240310T070000
END:DAYLIGHT
BEGIN:STANDARD
TZOFFSETFROM:-0400
TZOFFSETTO:-0500
TZNAME:EST
DTSTART:20241103T060000
END:STANDARD
BEGIN:DAYLIGHT
TZOFFSETFROM:-0500
TZOFFSETTO:-0400
TZNAME:EDT
DTSTART:20250309T070000
END:DAYLIGHT
BEGIN:STANDARD
TZOFFSETFROM:-0400
TZOFFSETTO:-0500
TZNAME:EST
DTSTART:20251102T060000
END:STANDARD
BEGIN:DAYLIGHT
TZOFFSETFROM:-0500
TZOFFSETTO:-0400
TZNAME:EDT
DTSTART:20260308T070000
END:DAYLIGHT
BEGIN:STANDARD
TZOFFSETFROM:-0400
TZOFFSETTO:-0500
TZNAME:EST
DTSTART:20261101T060000
END:STANDARD
BEGIN:DAYLIGHT
TZOFFSETFROM:-0500
TZOFFSETTO:-0400
TZNAME:EDT
DTSTART:20270314T070000
END:DAYLIGHT
BEGIN:STANDARD
TZOFFSETFROM:-0400
TZOFFSETTO:-0500
TZNAME:EST
DTSTART:20271107T060000
END:STANDARD
END:VTIMEZONE
BEGIN:VEVENT
DTSTART;TZID=America/New_York:20250802T170000
DTEND;TZID=America/New_York:20250802T190000
DTSTAMP:20260425T114758
CREATED:20250217T142019Z
LAST-MODIFIED:20250708T123418Z
UID:5417-1754154000-1754161200@swyc.com
SUMMARY:Wine Tasting
DESCRIPTION:Wine in the Willows \n8/2/25 \n  \nOnce again “Wine in the Willows” returns to the club. Mark your calendars for August 2nd\, 5-7PM. \nVicki and I\, Geoff\, will be hosting the wine tasting again this year. As we are serving alcohol we cannot charge for this event. However\, we will have a “voluntary” donation jar out to help offset the cost of the veteran’s appreciation day being held by the club. \nWe will cap the event at 40 people and ask that you all bring your favorite glass as there is usually a shortage of wine glasses at the club. Being in the late afternoon\, it seems fitting that this also be a potluck gathering. Feel free to bring something to share with your clubmates. Anyone willing to assist in clean-up will get credit for work hours. \nYou can sign up online at Wine at the Willows Signup \nhttps://www.signupgenius.com/go/10C0D48A4AB23A6F4C61-57484114-swyc \n  \nor send me an email at Gghertler@gmail.com with your name and the number of people in your party (including yourself) who will be attending the event. \nLooking forward to seeing you all soon\, \n  \nGeoff Ghertler \n  \n 
URL:https://swyc.com/event/wine-tasting-2024-2/
LOCATION:Salem Willows Yacht Club\, 190 Fort Ave\, Salem\, MA\, 01970\, United States
CATEGORIES:Entertainment
ATTACH;FMTTYPE=image/png:https://swyc.com/wp-content/uploads/2025/02/Wine.png
END:VEVENT
BEGIN:VEVENT
DTSTART;TZID=America/New_York:20250823T180000
DTEND;TZID=America/New_York:20250823T210000
DTSTAMP:20260425T114758
CREATED:20250218T131325Z
LAST-MODIFIED:20250817T150317Z
UID:5436-1755972000-1755982800@swyc.com
SUMMARY:2025 Arts Night
DESCRIPTION:Arts Night at Salem Willows\nIn memory of Janet Merriman\nJoin us on Saturday\, August 23 from 6-9 to share the artistic endeavors of your fellow talented members and invited guests.  In years past we’ve showcased paintings\, jewelry\, multimedia\, photography\, sewing\, quilting and music.  Some artists will have goods for sale or entertain commissions.  \nThis is a free event\, open to members and their guests. No signup is required.   As always BYOB\, but we encourage you to share.  Feel free to bring snacks to share\, but due to space and to respect the artists’ work these will be limited to the porch. \nContact Mike Merriman (mike.merriman1@icloud.com) to secure your exhibit space. \nArtists Displaying: \n\nJanet Merriman (in memorium) – Watercolors\nMary Ryan\nBarbara Lewis\nElvira Schoenthal\nCarolyn Austin\nBill Kuszmar\nTBD\nTBD\nTBD
URL:https://swyc.com/event/artist-night-3/
LOCATION:Salem Willows Yacht Club\, 190 Fort Ave\, Salem\, MA\, 01970\, United States
CATEGORIES:Entertainment
ATTACH;FMTTYPE=image/jpeg:https://swyc.com/wp-content/uploads/2022/04/77353548_1612731375532865_6260797995160174592_n-e1750355619386.jpg
ORGANIZER;CN="Mike Merriman":MAILTO:mike.merriman1@icloud.com
END:VEVENT
BEGIN:VEVENT
DTSTART;TZID=America/New_York:20260517T130000
DTEND;TZID=America/New_York:20260517T150000
DTSTAMP:20260425T114758
CREATED:20260322T203818Z
LAST-MODIFIED:20260420T123523Z
UID:5818-1779022800-1779030000@swyc.com
SUMMARY:New Members Meeting
DESCRIPTION:
URL:https://swyc.com/event/new-members-meeting-2/
LOCATION:Salem Willows Yacht Club\, 190 Fort Ave\, Salem\, MA\, 01970\, United States
CATEGORIES:Entertainment
END:VEVENT
END:VCALENDAR