BEGIN:VCALENDAR
VERSION:2.0
PRODID:-//Salem Willows Yacht Club - ECPv6.15.20//NONSGML v1.0//EN
CALSCALE:GREGORIAN
METHOD:PUBLISH
X-WR-CALNAME:Salem Willows Yacht Club
X-ORIGINAL-URL:https://swyc.com
X-WR-CALDESC:Events for Salem Willows Yacht Club
REFRESH-INTERVAL;VALUE=DURATION:PT1H
X-Robots-Tag:noindex
X-PUBLISHED-TTL:PT1H
BEGIN:VTIMEZONE
TZID:America/New_York
BEGIN:DAYLIGHT
TZOFFSETFROM:-0500
TZOFFSETTO:-0400
TZNAME:EDT
DTSTART:20180311T070000
END:DAYLIGHT
BEGIN:STANDARD
TZOFFSETFROM:-0400
TZOFFSETTO:-0500
TZNAME:EST
DTSTART:20181104T060000
END:STANDARD
BEGIN:DAYLIGHT
TZOFFSETFROM:-0500
TZOFFSETTO:-0400
TZNAME:EDT
DTSTART:20190310T070000
END:DAYLIGHT
BEGIN:STANDARD
TZOFFSETFROM:-0400
TZOFFSETTO:-0500
TZNAME:EST
DTSTART:20191103T060000
END:STANDARD
BEGIN:DAYLIGHT
TZOFFSETFROM:-0500
TZOFFSETTO:-0400
TZNAME:EDT
DTSTART:20200308T070000
END:DAYLIGHT
BEGIN:STANDARD
TZOFFSETFROM:-0400
TZOFFSETTO:-0500
TZNAME:EST
DTSTART:20201101T060000
END:STANDARD
END:VTIMEZONE
BEGIN:VTIMEZONE
TZID:America/New_York
BEGIN:DAYLIGHT
TZOFFSETFROM:-0500
TZOFFSETTO:-0400
TZNAME:EDT
DTSTART:20180311T070000
END:DAYLIGHT
BEGIN:STANDARD
TZOFFSETFROM:-0400
TZOFFSETTO:-0500
TZNAME:EST
DTSTART:20181104T060000
END:STANDARD
BEGIN:DAYLIGHT
TZOFFSETFROM:-0500
TZOFFSETTO:-0400
TZNAME:EDT
DTSTART:20190310T070000
END:DAYLIGHT
BEGIN:STANDARD
TZOFFSETFROM:-0400
TZOFFSETTO:-0500
TZNAME:EST
DTSTART:20191103T060000
END:STANDARD
BEGIN:DAYLIGHT
TZOFFSETFROM:-0500
TZOFFSETTO:-0400
TZNAME:EDT
DTSTART:20200308T070000
END:DAYLIGHT
BEGIN:STANDARD
TZOFFSETFROM:-0400
TZOFFSETTO:-0500
TZNAME:EST
DTSTART:20201101T060000
END:STANDARD
END:VTIMEZONE
BEGIN:VEVENT
DTSTART;TZID=America/New_York:20190719T180000
DTEND;TZID=America/New_York:20190719T180000
DTSTAMP:20260424T204003
CREATED:20190430T133519Z
LAST-MODIFIED:20220910T124144Z
UID:1844-1563559200-1563559200@swyc.com
SUMMARY:Wine Tasting from Around the World
DESCRIPTION:Wine Night at the Willows. Hosted by Vicki Bradford\, and poured by Geoff Ghertler. \nThere will be two member wine tastings for SWYC members. As glassware can be limited in the clubhouse we encourage you to bring your favorite glass. Feel free to bring a dish to share too. \nJuly 19th\, 6-8PM\nWe will be hosting an event similar to last year. A tasting with wines from around the world. Come and enjoy a mix of Whites and Reds from all over the world. Hard to say what it will be yet\, but safe to say Cali\, Washington\, Oregon\, France\, Italy\, Spain\, South Africa and beyond. \nThis event is free to members\, but we will need to cap it at 30 people. \nRegister here:  https://forms.gle/7kAGpNbHdRFt6oXF9
URL:https://swyc.com/event/wine-tasting-from-around-the-world/
LOCATION:Salem Willows Yacht Club\, 190 Fort Ave\, Salem\, MA\, 01970\, United States
CATEGORIES:Entertainment
ATTACH;FMTTYPE=image/jpeg:https://swyc.com/wp-content/uploads/2019/04/celebration-cheers-drinking-glasses-1097425-e1750356612571.jpg
END:VEVENT
BEGIN:VEVENT
DTSTART;TZID=America/New_York:20190717T130000
DTEND;TZID=America/New_York:20190717T160000
DTSTAMP:20260424T204003
CREATED:20190430T133521Z
LAST-MODIFIED:20220910T124145Z
UID:1846-1563368400-1563379200@swyc.com
SUMMARY:Veterans Appreciation Day
DESCRIPTION:Wednesday\, July 17 with a rain date of Wednesday\, July 31st \nTime: from 1 – 4 PM. We begin with a short ceremony\, followed by a 1 1/2 hour cruise around Salem Sound\, and finish with a cookout. \nHere are a few things to keep in mind:\nInvitations. Please invite a service member from your family or someone who is close to you to this really enjoyable event. Unfortunately\, space is limited so please invite a service member\, not his entire family. Please send the name of your guest to Mike Madison at: michaeljmadison@comcast.net.\nVolunteers. If you would like to volunteer for this event – hours count towards your work assessment – contact Vice Commodore Bill Lord at: williamlord2001@yahoo.com.\nFleet. If you would like to skipper a boat for our veterans contact Fleet Captain Sue Lewis at: sue4750@gmail.com.\nSo\, we are looking forward to hearing from you. This is one of the most worthwhile and enjoyable events of the season. So\, get involved! You’ll be glad you did.
URL:https://swyc.com/event/veterans-appreciation-day/
LOCATION:Salem Willows Yacht Club\, 190 Fort Ave\, Salem\, MA\, 01970\, United States
CATEGORIES:Entertainment,On the Water
ATTACH;FMTTYPE=image/jpeg:https://swyc.com/wp-content/uploads/2017/03/IMG_0644.jpg
END:VEVENT
BEGIN:VEVENT
DTSTART;VALUE=DATE:20190713
DTEND;VALUE=DATE:20190715
DTSTAMP:20260424T204003
CREATED:20190430T133518Z
LAST-MODIFIED:20220910T124145Z
UID:1842-1562976000-1563148799@swyc.com
SUMMARY:SSYC Invasion
DESCRIPTION:Theme: Vikings \n  \nstay tuned for details and cost
URL:https://swyc.com/event/ssyc-invasion/
LOCATION:South Shore Yacht Club\, Weymouth\, MA\, United States
CATEGORIES:Entertainment
ATTACH;FMTTYPE=image/jpeg:https://swyc.com/wp-content/uploads/2019/04/water-4032975_640.jpg
END:VEVENT
BEGIN:VEVENT
DTSTART;TZID=America/New_York:20190622T180000
DTEND;TZID=America/New_York:20190622T180000
DTSTAMP:20260424T204003
CREATED:20190531T142315Z
LAST-MODIFIED:20220910T123601Z
UID:2200-1561226400-1561226400@swyc.com
SUMMARY:Summer Solstice Dinner
DESCRIPTION:Summer Solstice Celebration “White Nights” (FULLY BOOKED)\nMidsummer is Scandinavia’s most popular festival right along with Christmas. A traditional celebration of the Summer solstice\, Midsummer is the longest day of the year (June 21). The celebration of the Summer solstice is a very ancient practice\, dating back to pre-Christian times. \nPlease Join us for our by now traditional Summer Solstice Party on June 22nd at 6:30pm with a culinary feast in our beautiful Club house.\nPlease register early since the party is usually sold out quickly. Please sign up using the following link: https://forms.gle/45KVgoHcoBFiiiKG7 \, sign up at the club or email Wolfgang Scholz at wscholz@comcast.net\nCost is $12 per person\, kids under 12 years are $5\, will be collected before serving. \nIf you would like to volunteer to set up or clean up\, please contact Wolfgang Scholz at wscholz@comcast.net\nNOTE: the event is limited to sixty persons so sign up early but no later then June 19th at 5pm
URL:https://swyc.com/event/summer-solstice-dinner/
LOCATION:Salem Willows Yacht Club\, 190 Fort Ave\, Salem\, MA\, 01970\, United States
CATEGORIES:Entertainment
ATTACH;FMTTYPE=image/jpeg:https://swyc.com/wp-content/uploads/2018/06/36063660_2389591144388044_2150601304630624256_n.jpg
ORGANIZER;CN="Wolfgang Scholz":MAILTO:wscholz@comcast.net
END:VEVENT
BEGIN:VEVENT
DTSTART;TZID=America/New_York:20190615T180000
DTEND;TZID=America/New_York:20190615T220000
DTSTAMP:20260424T204003
CREATED:20190430T133512Z
LAST-MODIFIED:20220910T123603Z
UID:1831-1560621600-1560636000@swyc.com
SUMMARY:Potluck Supper
DESCRIPTION:First Pot Luck Supper of the season will be on Saturday\, June 15th at 6:00pm and will be hosted by Barbara and Artie Lewis. These are always fun\, so don’t miss it.\nBring whatever specialty you like: entrée\, appetizer\, salad\, dessert\, etc. Prepare one item and get to enjoy a variety of others….can’t be beat!\nSign up at the clubhouse\, or use the link below:\nhttps://forms.gle/LFVkMwqjZEjzh2dGA\nAny questions\, please contact Barbara at Barbaralewis81@comcast.net\nHope to see you there!
URL:https://swyc.com/event/potluck-supper/
LOCATION:Salem Willows Yacht Club\, 190 Fort Ave\, Salem\, MA\, 01970\, United States
CATEGORIES:Entertainment
ATTACH;FMTTYPE=image/jpeg:https://swyc.com/wp-content/uploads/2018/06/36063660_2389591144388044_2150601304630624256_n-1.jpg
ORGANIZER;CN="Barbara Lewis":MAILTO:Barbaralewis81@comcast.net
END:VEVENT
BEGIN:VEVENT
DTSTART;TZID=America/New_York:20190527T090000
DTEND;TZID=America/New_York:20190527T110000
DTSTAMP:20260424T204003
CREATED:20190430T133506Z
LAST-MODIFIED:20220910T123604Z
UID:1830-1558947600-1558954800@swyc.com
SUMMARY:Memorial Day Breakfast
DESCRIPTION:Please join us for the Memorial Day Breakfast\, Monday\, May 27th at 9:00am featuring eggs\, bacon\, homemade fruit salad\, pastries\, coffee\, tea and juice. The cost is $10 per adult and $5 per child under 12. Advance reservations are required – you can reserve your spot by using the SWYC Event Sign-Up Book at the clubhouse or this link. \nWe are looking for volunteers to help with set up and clean up. Remember\, hours spent volunteering at club events go toward your work assessment. If you have any questions about this event or would like to volunteer\, please contact Carol Vachon at carolvchn@yahoo.com by Friday May 24th at 12 noon. \nAfter breakfast\, our Commodore will lay a wreath in the mooring area honoring those club members\, family members and friends that have passed. Following the laying of the wreath\, there will be a blessing of the fleet.
URL:https://swyc.com/event/memorial-day-breakfast/
LOCATION:Salem Willows Yacht Club\, 190 Fort Ave\, Salem\, MA\, 01970\, United States
CATEGORIES:Entertainment
ATTACH;FMTTYPE=image/jpeg:https://swyc.com/wp-content/uploads/2017/05/IMG_0588.jpg
END:VEVENT
BEGIN:VEVENT
DTSTART;TZID=America/New_York:20190525T180000
DTEND;TZID=America/New_York:20190525T180000
DTSTAMP:20260424T204003
CREATED:20190430T133506Z
LAST-MODIFIED:20220910T123605Z
UID:1829-1558807200-1558807200@swyc.com
SUMMARY:Wine Night
DESCRIPTION:Wine Night at the Willows. Hosted by Vicki Bradford\, and poured by Geoff Ghertler. \nThere will be two member wine tastings for SWYC members. As glassware can be limited in the clubhouse we encourage you to bring your favorite glass. Feel free to bring a dish to share too. \nMay 25th\, 6-8PM\nThe first will be a welcome back celebration\, and a toast to the new season. Bubbles\, bubbles and more bubbles to taste.\nWhether you like Champagne\, Prosecco\, Cave\, Cremant de Limoux\, Rose…etc. There will be something to try. There will be so much fizz you will think you are riding in the Wonka-mobile. \nThis event is free to members\, but we will need to cap it at 30 people. \nPlease register here. \n 
URL:https://swyc.com/event/wine-night/
LOCATION:Salem Willows Yacht Club\, 190 Fort Ave\, Salem\, MA\, 01970\, United States
CATEGORIES:Entertainment
ATTACH;FMTTYPE=image/jpeg:https://swyc.com/wp-content/uploads/2019/04/celebration-cheers-drinking-glasses-1097425-e1750356612571.jpg
ORGANIZER;CN="Geoff Ghertler":MAILTO:gghertler@gmail.com
END:VEVENT
BEGIN:VEVENT
DTSTART;TZID=America/New_York:20190525T120000
DTEND;TZID=America/New_York:20190525T140000
DTSTAMP:20260424T204003
CREATED:20190430T133505Z
LAST-MODIFIED:20220910T123605Z
UID:1828-1558785600-1558792800@swyc.com
SUMMARY:Opening Chowderfest
DESCRIPTION:Come join us at noon on Saturday\, May 25th when the Gauthier and Plecinoga families will be cooking up a big batch of their famous fish chowder. There will be a nominal charge of $7\, however there will be no need to reserve in advance\, there’s always plenty of chowder!\nBYOB. See you all there!!\nRoland Gauthier\, Chowder Master
URL:https://swyc.com/event/opening-chowderfest/
LOCATION:Salem Willows Yacht Club\, 190 Fort Ave\, Salem\, MA\, 01970\, United States
CATEGORIES:Entertainment
ATTACH;FMTTYPE=image/jpeg:https://swyc.com/wp-content/uploads/2019/04/fish-soup-661577_1920.jpg
END:VEVENT
BEGIN:VEVENT
DTSTART;TZID=America/New_York:20190518T180000
DTEND;TZID=America/New_York:20190518T180000
DTSTAMP:20260424T204003
CREATED:20190430T133504Z
LAST-MODIFIED:20220910T123605Z
UID:1827-1558202400-1558202400@swyc.com
SUMMARY:Open Members Meeting
DESCRIPTION:Hello SWYC Members\, \nOn Saturday\, May 18th at 6:00 pm\, the SWYC Board of Governors will be holding our annual open meeting at the club. All members are welcome to attend and see how the club operates behind the scenes with the best interest of the members in mind!  A light meal will be served! \nIf you wish to participate in any discussion\, please raise your hand\, wait to be called upon\, then simply state your name and pose your question or comment. \nGuest Speakers!!! \nOnce the meeting concludes\, we will be hosting several guests from the “Friends of the Boston Harbor Islands”. They will be sharing a bit of history\, general information\, activities and events\, as well as boating privileges and access to the islands\, which should be interesting to both boaters and land lovers alike!. \nJodi and I look forward to seeing you there!  Please sign up here no later than Wednesday\, May 15 if you will be attending so we can plan accordingly. \n\nSincerely\,\nTony Brooks\nCommodore\, SWYC : 2019
URL:https://swyc.com/event/open-members-meeting/
LOCATION:Salem Willows Yacht Club\, 190 Fort Ave\, Salem\, MA\, 01970\, United States
CATEGORIES:BOG Meeting,Entertainment
ATTACH;FMTTYPE=image/jpeg:https://swyc.com/wp-content/uploads/2018/06/IMG_3280-1.jpg
END:VEVENT
BEGIN:VEVENT
DTSTART;TZID=America/New_York:20190515T183000
DTEND;TZID=America/New_York:20190515T210000
DTSTAMP:20260424T204003
CREATED:20190430T134741Z
LAST-MODIFIED:20220910T123606Z
UID:1870-1557945000-1557954000@swyc.com
SUMMARY:SWYC House Shower 2019
DESCRIPTION:Please join us for our second annual “Throwback House Shower” for SWYC on Wednesday\, May 15that 6:30 pm at the club house.  See old friends\, make new ones!  Potluck style dinner\, byo beverages\, shower activities.  Feel free to bring a small gift (no more than $5) for the club house\, but not required to attend! \nSome suggestions: \n  \n\n\n\n·       Dish soap \n·       Hand soap \n·       Dish towels \n·       Pot holders \n·       Sponges \n·       Sponge holder\n·       Pens/sharpies \n·       Post-its \n·       Gently used servingware or cooking pans \n·       Teabags \n·       Sugar/sweetener packets\n·       Spices \n·       Salt and pepper shakers \n·       Condiments: ketchup\, mustard\, BBQ sauce \n·       Gently used tablecloths\n\n\n\n  \nSign up > here  to let us know you are coming and what you are bringing food-wise to share.  Looking forward to seeing you then! \n  \nFeel free to email me direct if you have any questions:  jodijarvis@comcast.net
URL:https://swyc.com/event/swyc-house-shower-2/
LOCATION:Salem Willows Yacht Club\, 190 Fort Ave\, Salem\, MA\, 01970\, United States
CATEGORIES:Entertainment
ATTACH;FMTTYPE=image/jpeg:https://swyc.com/wp-content/uploads/2019/04/cake-3421082_640.jpg
END:VEVENT
END:VCALENDAR