BEGIN:VCALENDAR
VERSION:2.0
PRODID:-//Salem Willows Yacht Club - ECPv6.15.20//NONSGML v1.0//EN
CALSCALE:GREGORIAN
METHOD:PUBLISH
X-ORIGINAL-URL:https://swyc.com
X-WR-CALDESC:Events for Salem Willows Yacht Club
REFRESH-INTERVAL;VALUE=DURATION:PT1H
X-Robots-Tag:noindex
X-PUBLISHED-TTL:PT1H
BEGIN:VTIMEZONE
TZID:America/New_York
BEGIN:DAYLIGHT
TZOFFSETFROM:-0500
TZOFFSETTO:-0400
TZNAME:EDT
DTSTART:20250309T070000
END:DAYLIGHT
BEGIN:STANDARD
TZOFFSETFROM:-0400
TZOFFSETTO:-0500
TZNAME:EST
DTSTART:20251102T060000
END:STANDARD
BEGIN:DAYLIGHT
TZOFFSETFROM:-0500
TZOFFSETTO:-0400
TZNAME:EDT
DTSTART:20260308T070000
END:DAYLIGHT
BEGIN:STANDARD
TZOFFSETFROM:-0400
TZOFFSETTO:-0500
TZNAME:EST
DTSTART:20261101T060000
END:STANDARD
BEGIN:DAYLIGHT
TZOFFSETFROM:-0500
TZOFFSETTO:-0400
TZNAME:EDT
DTSTART:20270314T070000
END:DAYLIGHT
BEGIN:STANDARD
TZOFFSETFROM:-0400
TZOFFSETTO:-0500
TZNAME:EST
DTSTART:20271107T060000
END:STANDARD
END:VTIMEZONE
BEGIN:VEVENT
DTSTART;TZID=America/New_York:20260707T190000
DTEND;TZID=America/New_York:20260707T200000
DTSTAMP:20260423T191630
CREATED:20260322T211537Z
LAST-MODIFIED:20260322T211537Z
UID:5864-1783450800-1783454400@swyc.com
SUMMARY:Concert at the Willows
DESCRIPTION:
URL:https://swyc.com/event/concert-at-the-willows-2/
CATEGORIES:Non SWYC Event
END:VEVENT
BEGIN:VEVENT
DTSTART;TZID=America/New_York:20260714T190000
DTEND;TZID=America/New_York:20260714T200000
DTSTAMP:20260423T191630
CREATED:20260322T211833Z
LAST-MODIFIED:20260322T211833Z
UID:5873-1784055600-1784059200@swyc.com
SUMMARY:Concert at the Willows
DESCRIPTION:
URL:https://swyc.com/event/concert-at-the-willows-3/
CATEGORIES:Non SWYC Event
END:VEVENT
BEGIN:VEVENT
DTSTART;TZID=America/New_York:20260718T110000
DTEND;TZID=America/New_York:20260718T190000
DTSTAMP:20260423T191630
CREATED:20260322T212014Z
LAST-MODIFIED:20260322T212014Z
UID:5882-1784372400-1784401200@swyc.com
SUMMARY:Black Picnic
DESCRIPTION:
URL:https://swyc.com/event/black-picnic-2/
CATEGORIES:Non SWYC Event
END:VEVENT
BEGIN:VEVENT
DTSTART;TZID=America/New_York:20260721T190000
DTEND;TZID=America/New_York:20260721T200000
DTSTAMP:20260423T191630
CREATED:20260322T211855Z
LAST-MODIFIED:20260322T211855Z
UID:5876-1784660400-1784664000@swyc.com
SUMMARY:Concert at the Willows
DESCRIPTION:
URL:https://swyc.com/event/concert-at-the-willows-3-2/
CATEGORIES:Non SWYC Event
END:VEVENT
BEGIN:VEVENT
DTSTART;TZID=America/New_York:20260728T190000
DTEND;TZID=America/New_York:20260728T200000
DTSTAMP:20260423T191630
CREATED:20260322T211919Z
LAST-MODIFIED:20260322T211919Z
UID:5879-1785265200-1785268800@swyc.com
SUMMARY:Concert at the Willows
DESCRIPTION:
URL:https://swyc.com/event/concert-at-the-willows-3-2-2/
CATEGORIES:Non SWYC Event
END:VEVENT
BEGIN:VEVENT
DTSTART;TZID=America/New_York:20260804T190000
DTEND;TZID=America/New_York:20260804T200000
DTSTAMP:20260423T191630
CREATED:20260322T212617Z
LAST-MODIFIED:20260322T212617Z
UID:5894-1785870000-1785873600@swyc.com
SUMMARY:Concert at the Willows
DESCRIPTION:
URL:https://swyc.com/event/concert-at-the-willows-4/
LOCATION:Salem Willows
CATEGORIES:Non SWYC Event
END:VEVENT
BEGIN:VEVENT
DTSTART;TZID=America/New_York:20260815T110000
DTEND;TZID=America/New_York:20260815T190000
DTSTAMP:20260423T191630
CREATED:20260322T213052Z
LAST-MODIFIED:20260322T213052Z
UID:5904-1786791600-1786820400@swyc.com
SUMMARY:Salem Willows Jazzfest
DESCRIPTION:
URL:https://swyc.com/event/salem-willows-jazzfest/
LOCATION:Salem Willows
CATEGORIES:Non SWYC Event
END:VEVENT
END:VCALENDAR