BEGIN:VCALENDAR
VERSION:2.0
PRODID:-//Salem Willows Yacht Club - ECPv6.15.20//NONSGML v1.0//EN
CALSCALE:GREGORIAN
METHOD:PUBLISH
X-WR-CALNAME:Salem Willows Yacht Club
X-ORIGINAL-URL:https://swyc.com
X-WR-CALDESC:Events for Salem Willows Yacht Club
REFRESH-INTERVAL;VALUE=DURATION:PT1H
X-Robots-Tag:noindex
X-PUBLISHED-TTL:PT1H
BEGIN:VTIMEZONE
TZID:America/New_York
BEGIN:DAYLIGHT
TZOFFSETFROM:-0500
TZOFFSETTO:-0400
TZNAME:EDT
DTSTART:20210314T070000
END:DAYLIGHT
BEGIN:STANDARD
TZOFFSETFROM:-0400
TZOFFSETTO:-0500
TZNAME:EST
DTSTART:20211107T060000
END:STANDARD
BEGIN:DAYLIGHT
TZOFFSETFROM:-0500
TZOFFSETTO:-0400
TZNAME:EDT
DTSTART:20220313T070000
END:DAYLIGHT
BEGIN:STANDARD
TZOFFSETFROM:-0400
TZOFFSETTO:-0500
TZNAME:EST
DTSTART:20221106T060000
END:STANDARD
BEGIN:DAYLIGHT
TZOFFSETFROM:-0500
TZOFFSETTO:-0400
TZNAME:EDT
DTSTART:20230312T070000
END:DAYLIGHT
BEGIN:STANDARD
TZOFFSETFROM:-0400
TZOFFSETTO:-0500
TZNAME:EST
DTSTART:20231105T060000
END:STANDARD
BEGIN:DAYLIGHT
TZOFFSETFROM:-0500
TZOFFSETTO:-0400
TZNAME:EDT
DTSTART:20240310T070000
END:DAYLIGHT
BEGIN:STANDARD
TZOFFSETFROM:-0400
TZOFFSETTO:-0500
TZNAME:EST
DTSTART:20241103T060000
END:STANDARD
BEGIN:DAYLIGHT
TZOFFSETFROM:-0500
TZOFFSETTO:-0400
TZNAME:EDT
DTSTART:20250309T070000
END:DAYLIGHT
BEGIN:STANDARD
TZOFFSETFROM:-0400
TZOFFSETTO:-0500
TZNAME:EST
DTSTART:20251102T060000
END:STANDARD
BEGIN:DAYLIGHT
TZOFFSETFROM:-0500
TZOFFSETTO:-0400
TZNAME:EDT
DTSTART:20260308T070000
END:DAYLIGHT
BEGIN:STANDARD
TZOFFSETFROM:-0400
TZOFFSETTO:-0500
TZNAME:EST
DTSTART:20261101T060000
END:STANDARD
END:VTIMEZONE
BEGIN:VEVENT
DTSTART;TZID=America/New_York:20250913T140000
DTEND;TZID=America/New_York:20250913T180000
DTSTAMP:20260424T065904
CREATED:20250216T164335Z
LAST-MODIFIED:20250619T175125Z
UID:5398-1757772000-1757786400@swyc.com
SUMMARY:Fall Classic Sailboat Race
DESCRIPTION:Fall Classic Sailboat Race
URL:https://swyc.com/event/fall-classic-sailboat-race-2/
LOCATION:Salem Willows Yacht Club\, 190 Fort Ave\, Salem\, MA\, 01970\, United States
CATEGORIES:On the Water
ATTACH;FMTTYPE=image/png:https://swyc.com/wp-content/uploads/2025/02/SWYC_BURGEE.png
END:VEVENT
BEGIN:VEVENT
DTSTART;TZID=America/New_York:20250810T140000
DTEND;TZID=America/New_York:20250810T190000
DTSTAMP:20260424T065904
CREATED:20250216T163631Z
LAST-MODIFIED:20250619T175650Z
UID:5385-1754834400-1754852400@swyc.com
SUMMARY:Heritage Days Race
DESCRIPTION:Heritage Days Race
URL:https://swyc.com/event/heritage-days-race-6/
LOCATION:SWYC
CATEGORIES:On the Water
ATTACH;FMTTYPE=image/png:https://swyc.com/wp-content/uploads/2025/02/SWYC_BURGEE.png
END:VEVENT
BEGIN:VEVENT
DTSTART;TZID=America/New_York:20250726T080000
DTEND;TZID=America/New_York:20250726T170000
DTSTAMP:20260424T065904
CREATED:20250216T163346Z
LAST-MODIFIED:20250622T164339Z
UID:5382-1753516800-1753549200@swyc.com
SUMMARY:Family Day At Misery Island
DESCRIPTION:Family Day At Misery Island \nchairperson needed!
URL:https://swyc.com/event/family-misery-island-2025/
CATEGORIES:On the Water
ATTACH;FMTTYPE=image/png:https://swyc.com/wp-content/uploads/2025/02/SWYC_BURGEE-1.png
END:VEVENT
BEGIN:VEVENT
DTSTART;TZID=America/New_York:20250725T080000
DTEND;TZID=America/New_York:20250725T170000
DTSTAMP:20260424T065904
CREATED:20250216T163220Z
LAST-MODIFIED:20250622T164431Z
UID:5379-1753430400-1753462800@swyc.com
SUMMARY:Veterans At Sea (rain date)
DESCRIPTION:Veterans At Sea
URL:https://swyc.com/event/veterans-at-sea-2/
CATEGORIES:Entertainment,On the Water
ATTACH;FMTTYPE=image/png:https://swyc.com/wp-content/uploads/2025/02/veterans.png
END:VEVENT
BEGIN:VEVENT
DTSTART;TZID=America/New_York:20250724T080000
DTEND;TZID=America/New_York:20250724T170000
DTSTAMP:20260424T065904
CREATED:20250216T163136Z
LAST-MODIFIED:20250622T164422Z
UID:5376-1753344000-1753376400@swyc.com
SUMMARY:Veterans At Sea
DESCRIPTION:Veterans At Sea
URL:https://swyc.com/event/veterans-at-sea/
CATEGORIES:Entertainment,On the Water
ATTACH;FMTTYPE=image/png:https://swyc.com/wp-content/uploads/2025/02/veterans.png
END:VEVENT
BEGIN:VEVENT
DTSTART;TZID=America/New_York:20250719T080000
DTEND;TZID=America/New_York:20250720T170000
DTSTAMP:20260424T065904
CREATED:20250216T163017Z
LAST-MODIFIED:20250709T135354Z
UID:5371-1752912000-1753030800@swyc.com
SUMMARY:SSYC Invasion At South Shore
DESCRIPTION:SSYC-SWYC Back to the 70’s Invasion July 19-20 \n  \nThe Salem Willows Yacht Club will be invading the South Shore Yacht Club again this year.  This traditional 2-days annual event will take place at SSYC in South Weymouth. We will celebrate their 70th anniversary. \n  \nThe Salem Willows fleet will depart on Saturday in the morning and rendezvous in the Boston Harbor around 11 am. The SWYC fleet will then parade up the harbor to arrive around noon time at SSYC for a cookout lunch.  Dinner will be served around 6:30 pm with music and dancing to follow.  Dinner menu will be Prime Rib or Baked Stuffed Shrimp or Vegetarian. The next day\, breakfast will be served Sunday morning from 8-10 am before leaving the dock. \nPlease join us for this Back to the 70’s Invasion party at SSYC either by boat or car. Come and have some fun! \n  \nPrice is $60 per person for the 2-days event or $50 for Saturday only. The price for kids 12-17 y.o. is $40 and it’s free for kids under 12 y.o.  (Money will be collected at the SSYC door on Saturday) \n  \nPlease RSVP by Friday July 11th. \nSign up online at https://tinyurl.com/2025invasion \nor email at fleetcaptain@swyc.com . \n  \nPlease include your name\, contact info (phone and email)\, number of people in your party. Write down the names of all the people in your party and their choice for dinner (Prime Rib\, Baked Shrimp or Vegetarian). If you are coming by boat and need a dock or mooring for Saturday night at SSYC\, indicate the name of the boat\, length and draft. \n  \nCancellations after July 11th and no shows will be charged the full price of the event.
URL:https://swyc.com/event/ssyc-invasion-at-south-shore/
LOCATION:SSYC
CATEGORIES:Entertainment,On the Water
ATTACH;FMTTYPE=image/jpeg:https://swyc.com/wp-content/uploads/2025/02/south-shore-yc-wi-img-web-1024x487-1.jpg
END:VEVENT
BEGIN:VEVENT
DTSTART;TZID=America/New_York:20250705T120000
DTEND;TZID=America/New_York:20250705T160000
DTSTAMP:20260424T065904
CREATED:20250216T162514Z
LAST-MODIFIED:20250627T175534Z
UID:5364-1751716800-1751731200@swyc.com
SUMMARY:4th of July Race & BBQ
DESCRIPTION:Our next race is taking place on Saturday July 5th. This is a short and casual race\, approximately one hour long in the Salem sound. The race starts at noon. More details with the race instructions will be sent a day before to those who sign up. You can sign up online at this link. \n  \nhttps://www.signupgenius.com/go/10C0D48A4AB23A6F4C61-swyc1 \n  \nAfter the race\, come on down for an old-fashioned BBQ at the Club. Hot dogs\, Hamburgers\, Potato Salad\, Cole Slaw\, Pasta salad\, Watermelon. BYOB. Also\, there will be some surprise entertainment. BBQ starts at 4:00 PM. Cost for the BBQ is $10 per person. A separate SIGN UP IS REQUIRED for the BBQ. To signup for the BBQ\, email a note with your name and the number of people in your party to Elvira (Elvira.Schoenthal@gmail.com). Anyone can sign up for the BBQ\, not just the racers. Deadline to sign up for the BBQ is Monday June 30\, so don’t wait! \n  \nHappy Sailing\, \n  \nPascal Miller \nSWYC Fleet Captain \nPhone: 978-996-3823 \nEmail: pascalmiller@charter.net
URL:https://swyc.com/event/4th-of-july-race-2/
LOCATION:Salem Willows Yacht Club\, 190 Fort Ave\, Salem\, MA\, 01970\, United States
CATEGORIES:Entertainment,On the Water
ATTACH;FMTTYPE=image/png:https://swyc.com/wp-content/uploads/2025/02/regatta.png
END:VEVENT
BEGIN:VEVENT
DTSTART;TZID=America/New_York:20250628T080000
DTEND;TZID=America/New_York:20250628T120000
DTSTAMP:20260424T065904
CREATED:20250216T161310Z
LAST-MODIFIED:20250622T163629Z
UID:5333-1751097600-1751112000@swyc.com
SUMMARY:Boat Inspection
DESCRIPTION:Boat Inspection
URL:https://swyc.com/event/boat-inspection-3/
LOCATION:SWYC
CATEGORIES:Education,On the Water
ATTACH;FMTTYPE=image/png:https://swyc.com/wp-content/uploads/2025/02/vessel_safety_check.png
ORGANIZER;CN="Anne Olenio":MAILTO:aolenio16@gmail.com
END:VEVENT
BEGIN:VEVENT
DTSTART;TZID=America/New_York:20240914T120000
DTEND;TZID=America/New_York:20240914T180000
DTSTAMP:20260424T065904
CREATED:20240422T163414Z
LAST-MODIFIED:20240425T130538Z
UID:4835-1726315200-1726336800@swyc.com
SUMMARY:Fall Classic Sailboat Race
DESCRIPTION:Please see description as this is one of four races. \n* Long Distance Race – Sunday June 16th from Salem to Scituate. \n* Firecracker 500 Race – Saturday July 6th followed with a traditional 4th of July barbeque \n* Heritage Days Race – Sunday August 11th followed with an ice cream social \n* Fall Classic Race – Saturday September 14th with a potluck dinner at the Club and award ceremony afterwards. \nYou may register online for all 4 races at: \n<https://www.signupgenius.com/go/10C0D48A4AB23A6F4C61-49230450-swyc> \n<https://www.signupgenius.com/go/10C0D48A4AB23A6F4C61-49230450-swyc>
URL:https://swyc.com/event/fall-classic-sailboat-race/
LOCATION:Salem Willows Yacht Club\, 190 Fort Ave\, Salem\, MA\, 01970\, United States
CATEGORIES:On the Water
ATTACH;FMTTYPE=image/png:https://swyc.com/wp-content/uploads/2022/04/SWYC-Fall-Classic-Race.png
END:VEVENT
BEGIN:VEVENT
DTSTART;TZID=America/New_York:20240907T080000
DTEND;TZID=America/New_York:20240907T170000
DTSTAMP:20260424T065904
CREATED:20240422T163332Z
LAST-MODIFIED:20240423T162839Z
UID:4832-1725696000-1725728400@swyc.com
SUMMARY:Jubilee Regatta
DESCRIPTION:
URL:https://swyc.com/event/jubilee-regatta/
CATEGORIES:On the Water
ATTACH;FMTTYPE=image/jpeg:https://swyc.com/wp-content/uploads/2024/04/regatta.jpeg
END:VEVENT
BEGIN:VEVENT
DTSTART;TZID=America/New_York:20240811T120000
DTEND;TZID=America/New_York:20240811T190000
DTSTAMP:20260424T065904
CREATED:20240422T162809Z
LAST-MODIFIED:20240425T201158Z
UID:4814-1723377600-1723402800@swyc.com
SUMMARY:Heritage Days Race
DESCRIPTION:Please see description as this is one of four races. \n* Long Distance Race – Sunday June 16th from Salem to Scituate. \n* Firecracker 500 Race – Saturday July 6th followed with a traditional 4th of July barbeque \n* Heritage Days Race – Sunday August 11th followed with an ice cream social \n* Fall Classic Race – Saturday September 14th with a potluck dinner at the Club and award ceremony afterwards. \nYou may register online for all 4 races at: \n<https://www.signupgenius.com/go/10C0D48A4AB23A6F4C61-49230450-swyc>
URL:https://swyc.com/event/heritage-days-race-5/
LOCATION:Salem Willows Yacht Club\, 190 Fort Ave\, Salem\, MA\, 01970\, United States
CATEGORIES:On the Water
ATTACH;FMTTYPE=image/png:https://swyc.com/wp-content/uploads/2022/04/SWYC-Heritage-Days-Race.png
END:VEVENT
BEGIN:VEVENT
DTSTART;VALUE=DATE:20240727
DTEND;VALUE=DATE:20240729
DTSTAMP:20260424T065904
CREATED:20240422T162412Z
LAST-MODIFIED:20240425T201446Z
UID:4802-1722038400-1722211199@swyc.com
SUMMARY:SSYC Invasion At SSYC
DESCRIPTION:Stay Tuned for details.
URL:https://swyc.com/event/ssyc-invasion-at-ssyc/
LOCATION:South Shore Yacht Club\, Weymouth\, MA\, United States
CATEGORIES:Entertainment,On the Water
ATTACH;FMTTYPE=image/jpeg:https://swyc.com/wp-content/uploads/2024/04/SSYC-burgee.jpg
END:VEVENT
BEGIN:VEVENT
DTSTART;TZID=America/New_York:20240725T120000
DTEND;TZID=America/New_York:20240725T160000
DTSTAMP:20260424T065904
CREATED:20240614T220327Z
LAST-MODIFIED:20240614T220327Z
UID:5098-1721908800-1721923200@swyc.com
SUMMARY:Veterans Day at Sea (rain date)
DESCRIPTION:
URL:https://swyc.com/event/veterans-day-at-sea-rain-date/
LOCATION:Salem Willows Yacht Club\, 190 Fort Ave\, Salem\, MA\, 01970\, United States
CATEGORIES:Entertainment,On the Water
ATTACH;FMTTYPE=image/png:https://swyc.com/wp-content/uploads/2024/04/Thank-you-veterans.png
END:VEVENT
BEGIN:VEVENT
DTSTART;TZID=America/New_York:20240724T120000
DTEND;TZID=America/New_York:20240724T160000
DTSTAMP:20260424T065904
CREATED:20240422T164242Z
LAST-MODIFIED:20240614T220144Z
UID:4847-1721822400-1721836800@swyc.com
SUMMARY:Veterans Day At Sea
DESCRIPTION:Boating from 12-2.  Then a cookout on the deck. \nRain date in July 25
URL:https://swyc.com/event/veterans-day-at-sea-tbd/
LOCATION:Salem Willows Yacht Club\, 190 Fort Ave\, Salem\, MA\, 01970\, United States
CATEGORIES:Entertainment,On the Water
ATTACH;FMTTYPE=image/png:https://swyc.com/wp-content/uploads/2024/04/Thank-you-veterans.png
END:VEVENT
BEGIN:VEVENT
DTSTART;TZID=America/New_York:20240706T120000
DTEND;TZID=America/New_York:20240706T170000
DTSTAMP:20260424T065904
CREATED:20240422T161356Z
LAST-MODIFIED:20240425T201040Z
UID:4775-1720267200-1720285200@swyc.com
SUMMARY:4th of July Race - Firecracker 500
DESCRIPTION:Please see description as this is one of four races. \n* Long Distance Race – Sunday June 16th from Salem to Scituate. \n* Firecracker 500 Race – Saturday July 6th followed with a traditional 4th of July barbeque \n* Heritage Days Race – Sunday August 11th followed with an ice cream social \n* Fall Classic Race – Saturday September 14th with a potluck dinner at the Club and award ceremony afterwards. \n  \nYou may register online for all 4 races at: \n<https://www.signupgenius.com/go/10C0D48A4AB23A6F4C61-49230450-swyc> \n  \n 
URL:https://swyc.com/event/4th-of-july-race/
LOCATION:Salem Willows Yacht Club\, 190 Fort Ave\, Salem\, MA\, 01970\, United States
CATEGORIES:On the Water
ATTACH;FMTTYPE=image/png:https://swyc.com/wp-content/uploads/2022/04/SWYC-FireCracker-500.png
END:VEVENT
BEGIN:VEVENT
DTSTART;TZID=America/New_York:20240622T083000
DTEND;TZID=America/New_York:20240622T120000
DTSTAMP:20260424T065904
CREATED:20240422T160035Z
LAST-MODIFIED:20240516T000400Z
UID:4753-1719045000-1719057600@swyc.com
SUMMARY:Coast Guard Auxiliary Vessel Inspections
DESCRIPTION:In preparation for boating season this year\, now is a good time to check your USCG required equipment and replace any safety equipment that is outdated or worn out. This year’s SWYC Annual USCG Auxiliary Vessel Inspection Day is scheduled for Saturday June 22nd beginning at 8:30 am. There will be “Federal Equipment Requirements and Safety Booklets” available inside the Club in advance of the event. This no-cost event is a courtesy inspection designed to help ensure boaters have the equipment needed to keep them safe on the water. A signup sheet will soon be posted on the Club bulletin board for those who would like to sign up. For anyone who can’t make it to the club to sign up\, or for any information\, please contact Anne Olenio at aolenio16@gmail.com. \nAnne Olenio \nUSCG Auxiliary
URL:https://swyc.com/event/boat-inspection-2/
LOCATION:Salem Willows Yacht Club\, 190 Fort Ave\, Salem\, MA\, 01970\, United States
CATEGORIES:On the Water
ATTACH;FMTTYPE=image/png:https://swyc.com/wp-content/uploads/2024/04/2024_VSC_Decal_200px.png
ORGANIZER;CN="Anne Olenio":MAILTO:aolenio16@gmail.com
END:VEVENT
BEGIN:VEVENT
DTSTART;TZID=America/New_York:20240616T080000
DTEND;TZID=America/New_York:20240616T170000
DTSTAMP:20260424T065904
CREATED:20240425T130104Z
LAST-MODIFIED:20240425T200903Z
UID:4903-1718524800-1718557200@swyc.com
SUMMARY:Long Distance Race - Sunday June 16th from Salem to Scituate.
DESCRIPTION:Please see description as this is one of four races. \n* Long Distance Race – Sunday June 16th from Salem to Scituate. \n* Firecracker 500 Race – Saturday July 6th followed with a traditional 4th of July barbeque \n* Heritage Days Race – Sunday August 11th followed with an ice cream social \n* Fall Classic Race – Saturday September 14th with a potluck dinner at the Club and award ceremony afterwards. \nYou may register online for all 4 races at: \n<https://www.signupgenius.com/go/10C0D48A4AB23A6F4C61-49230450-swyc>
URL:https://swyc.com/event/long-distance-race-sunday-june-16th-from-salem-to-scituate/
LOCATION:Salem Willows Yacht Club\, 190 Fort Ave\, Salem\, MA\, 01970\, United States
CATEGORIES:On the Water
ATTACH;FMTTYPE=image/png:https://swyc.com/wp-content/uploads/2023/06/SWYC-Race-Salem-to-Scituate-01.png
END:VEVENT
BEGIN:VEVENT
DTSTART;TZID=America/New_York:20230916T140000
DTEND;TZID=America/New_York:20230916T200000
DTSTAMP:20260424T065904
CREATED:20230515T115749Z
LAST-MODIFIED:20230515T135102Z
UID:4302-1694872800-1694894400@swyc.com
SUMMARY:Fall Classic Race
DESCRIPTION:Fall Classic Race starts at 2:00 PM\, followed by Potluck Supper & Award Ceremony at 5 pm\, The potluck dinner is open to all club members\, not just the racers (separate sign-up TBD) \n  \nRace Signup here:  https://www.signupgenius.com/go/10C0D48A4AB23A6F4C61-swyc1 \nPotluck signup TBD
URL:https://swyc.com/event/fall-classic-race-3/
LOCATION:Salem Willows Yacht Club\, 190 Fort Ave\, Salem\, MA\, 01970\, United States
CATEGORIES:On the Water
ATTACH;FMTTYPE=image/png:https://swyc.com/wp-content/uploads/2022/04/SWYC-Fall-Classic-Race.png
END:VEVENT
BEGIN:VEVENT
DTSTART;VALUE=DATE:20230819
DTEND;VALUE=DATE:20230821
DTSTAMP:20260424T065904
CREATED:20230629T122659Z
LAST-MODIFIED:20230629T122659Z
UID:4392-1692403200-1692575999@swyc.com
SUMMARY:MBYCA 2023 RENDEZVOUS
DESCRIPTION:MBYCA 2023 RENDEZVOUS \nHAWAIIAN TIKI PARTY\nHosting Club – Wessagussett Yacht Club\nAugust 19th & 20th\, 2023 $60.00 per person \n  \nRegister by Aug 6\, 2023 \nClick here for more info…………… \nClick here for sign up sheet……
URL:https://swyc.com/event/mbyca-2023-rendezvous/
LOCATION:Wessagusset Yacht Club
CATEGORIES:Entertainment,On the Water
ATTACH;FMTTYPE=image/jpeg:https://swyc.com/wp-content/uploads/2017/03/15020.jpg
END:VEVENT
BEGIN:VEVENT
DTSTART;TZID=America/New_York:20230806T150000
DTEND;TZID=America/New_York:20230806T200000
DTSTAMP:20260424T065904
CREATED:20230425T140915Z
LAST-MODIFIED:20230515T135020Z
UID:4240-1691334000-1691352000@swyc.com
SUMMARY:Heritage Days Race
DESCRIPTION:Heritage Days race at 3 pm followed with an ice cream social open to all members at 7 pm. (donation bucket). \n  \nSignup Here: https://www.signupgenius.com/go/10C0D48A4AB23A6F4C61-swyc1
URL:https://swyc.com/event/heritage-days-race-4/
LOCATION:Salem Willows Yacht Club\, 190 Fort Ave\, Salem\, MA\, 01970\, United States
CATEGORIES:Member Event,On the Water
ATTACH;FMTTYPE=image/png:https://swyc.com/wp-content/uploads/2022/04/SWYC-Heritage-Days-Race.png
END:VEVENT
BEGIN:VEVENT
DTSTART;TZID=America/New_York:20230803T110000
DTEND;TZID=America/New_York:20230803T170000
DTSTAMP:20260424T065904
CREATED:20230404T014353Z
LAST-MODIFIED:20230404T014353Z
UID:4127-1691060400-1691082000@swyc.com
SUMMARY:Veteran's Appreciation Day
DESCRIPTION:Rain Date 8/4/2023
URL:https://swyc.com/event/veterans-appreciation-day-2/
LOCATION:Salem Willows Yacht Club\, 190 Fort Ave\, Salem\, MA\, 01970\, United States
CATEGORIES:Entertainment,On the Water
ATTACH;FMTTYPE=image/jpeg:https://swyc.com/wp-content/uploads/2019/10/ajax-request.jpg
END:VEVENT
BEGIN:VEVENT
DTSTART;VALUE=DATE:20230722
DTEND;VALUE=DATE:20230724
DTSTAMP:20260424T065904
CREATED:20230425T140512Z
LAST-MODIFIED:20230521T144500Z
UID:4237-1689984000-1690156799@swyc.com
SUMMARY:SWYC – SSYC GANGSTERS INVASION
DESCRIPTION:The South Shore Yacht Club Gangsters will be invading the club this year. This will be a fun and exciting 2-days event that will finally take place again at Salem Willows YC after a few years of interruption. \nThe party will start around noon on July 22 with a barbeque lunch. Italian Dinner will be served at 7 pm with music and dancing on the deck. Sunday morning\, breakfast will be served for all the gangsters still standing. \nPlease join for this gangsters’ party at the club. (Water guns are welcome but leave your live firearms at home). Come and have some fun! \nPrice is $60 per person ($50 for those staying Saturday only)\, collected at the club on Saturday. \nOnline RSVP requested by July 18th. (*) \nAny questions about this event\, please contact Elvira Schoenthal (Email:  elvira.schoenthal@gmail.com) \nWe will need a few volunteers to help with each meal (Lunch and dinner on Saturday and breakfast on Sunday). Please sign up on the same link to volunteer for this party or email Elvira directly. This a fun and easy way to volunteer for the club and it can be used to fulfill some of your work-off assessment hours. Thank you in advance. We can’t make this party happen without you! \n(*) Cancelation after July 18th and no shows will be charged the full price for the event.
URL:https://swyc.com/event/south-shore-yacht-club-invasion/
LOCATION:Salem Willows Yacht Club\, 190 Fort Ave\, Salem\, MA\, 01970\, United States
CATEGORIES:Entertainment,Member Event,On the Water
ATTACH;FMTTYPE=image/png:https://swyc.com/wp-content/uploads/2023/04/gansta-e1684326576342.png
END:VEVENT
BEGIN:VEVENT
DTSTART;TZID=America/New_York:20230701T110000
DTEND;TZID=America/New_York:20230701T170000
DTSTAMP:20260424T065904
CREATED:20230425T140242Z
LAST-MODIFIED:20230515T134938Z
UID:4230-1688209200-1688230800@swyc.com
SUMMARY:Firecracker 500 Race
DESCRIPTION:Firecracker 500. Race starts at noon followed by burgers and dogs (open to all racers and members) at 4 PM. Small charge for people who come for burgers and dogs. \n  \nSignup here: https://www.signupgenius.com/go/10C0D48A4AB23A6F4C61-swyc1
URL:https://swyc.com/event/firecracker-500-race-2/
LOCATION:Salem Willows Yacht Club\, 190 Fort Ave\, Salem\, MA\, 01970\, United States
CATEGORIES:Member Event,On the Water
ATTACH;FMTTYPE=image/png:https://swyc.com/wp-content/uploads/2022/04/SWYC-FireCracker-500.png
END:VEVENT
BEGIN:VEVENT
DTSTART;VALUE=DATE:20230618
DTEND;VALUE=DATE:20230619
DTSTAMP:20260424T065904
CREATED:20230515T115131Z
LAST-MODIFIED:20230606T165814Z
UID:4295-1687046400-1687132799@swyc.com
SUMMARY:Salem to Scituate long distance race/cruise
DESCRIPTION:Sunday June 18: Salem to Scituate long distance race/cruise: We may meet for dinner after the race in Scituate. Details to follow. \nSignup here:  https://www.signupgenius.com/go/10C0D48A4AB23A6F4C61-swyc1
URL:https://swyc.com/event/salem-to-scituate-long-distance-race-cruise/
LOCATION:Salem Willows Yacht Club\, 190 Fort Ave\, Salem\, MA\, 01970\, United States
CATEGORIES:On the Water
ATTACH;FMTTYPE=image/png:https://swyc.com/wp-content/uploads/2023/06/SWYC-Race-Salem-to-Scituate-01.png
END:VEVENT
BEGIN:VEVENT
DTSTART;VALUE=DATE:20220917
DTEND;VALUE=DATE:20220918
DTSTAMP:20260424T065904
CREATED:20220407T155942Z
LAST-MODIFIED:20220910T124111Z
UID:3549-1663372800-1663459199@swyc.com
SUMMARY:Fall Classic Race
DESCRIPTION:Race start at 3pm \n  \nHere is the link for the race:  https://www.signupgenius.com/go/10C0D48A4AB23A6F4C61-swyc1 \nseparate signup sheet for the potluck dinner. \nHere is the link:  https://www.signupgenius.com/go/10C0D48A4AB23A6F4C61-fall \n 
URL:https://swyc.com/event/fall-classic-race-2/
LOCATION:Salem Willows Yacht Club\, 190 Fort Ave\, Salem\, MA\, 01970\, United States
CATEGORIES:Entertainment,On the Water
ATTACH;FMTTYPE=image/png:https://swyc.com/wp-content/uploads/2022/04/SWYC-Fall-Classic-Race.png
END:VEVENT
BEGIN:VEVENT
DTSTART;VALUE=DATE:20220807
DTEND;VALUE=DATE:20220808
DTSTAMP:20260424T065904
CREATED:20220407T155614Z
LAST-MODIFIED:20220910T124115Z
UID:3540-1659830400-1659916799@swyc.com
SUMMARY:Heritage Days Race
DESCRIPTION:Pizza & Ice Cream Social – CHAIRPERSON NEEDED \nRace signup here 
URL:https://swyc.com/event/heritage-days-race-3/
LOCATION:Salem Willows Yacht Club\, 190 Fort Ave\, Salem\, MA\, 01970\, United States
CATEGORIES:Entertainment,On the Water
ATTACH;FMTTYPE=image/png:https://swyc.com/wp-content/uploads/2022/04/SWYC-Heritage-Days-Race.png
END:VEVENT
BEGIN:VEVENT
DTSTART;VALUE=DATE:20220723
DTEND;VALUE=DATE:20220725
DTSTAMP:20260424T065904
CREATED:20220407T155320Z
LAST-MODIFIED:20220910T124116Z
UID:3533-1658534400-1658707199@swyc.com
SUMMARY:Invasion with SSYC
DESCRIPTION:Chair Officers
URL:https://swyc.com/event/invasion-with-ssyc/
LOCATION:South Shore Yacht Club\, Weymouth\, MA\, United States
CATEGORIES:Entertainment,Member Event,On the Water
END:VEVENT
BEGIN:VEVENT
DTSTART;TZID=America/New_York:20220713T110000
DTEND;TZID=America/New_York:20220713T160000
DTSTAMP:20260424T065904
CREATED:20220407T155405Z
LAST-MODIFIED:20220910T124117Z
UID:3536-1657710000-1657728000@swyc.com
SUMMARY:Veterans Boating & Sail Day
DESCRIPTION:Rain Date is July 14 at 11am
URL:https://swyc.com/event/veterans-boating-sail-day/
LOCATION:Salem Willows Yacht Club\, 190 Fort Ave\, Salem\, MA\, 01970\, United States
CATEGORIES:Entertainment,On the Water
ATTACH;FMTTYPE=image/jpeg:https://swyc.com/wp-content/uploads/2019/10/ajax-request.jpg
END:VEVENT
BEGIN:VEVENT
DTSTART;VALUE=DATE:20220702
DTEND;VALUE=DATE:20220703
DTSTAMP:20260424T065904
CREATED:20220407T155217Z
LAST-MODIFIED:20220910T124118Z
UID:3530-1656720000-1656806399@swyc.com
SUMMARY:Firecracker 500 Race & BBQ & Salem 4th of July Fireworks
DESCRIPTION:CHAIRPEOPLE for BBQ \nElvira Schoenthal \nJulie Menard \nRace signup here 
URL:https://swyc.com/event/firecracker-500-race-bbq/
CATEGORIES:On the Water
ATTACH;FMTTYPE=image/png:https://swyc.com/wp-content/uploads/2022/04/SWYC-FireCracker-500.png
END:VEVENT
BEGIN:VEVENT
DTSTART;TZID=America/New_York:20220625T080000
DTEND;TZID=America/New_York:20220625T170000
DTSTAMP:20260424T065904
CREATED:20220407T155114Z
LAST-MODIFIED:20220910T124119Z
UID:3527-1656144000-1656176400@swyc.com
SUMMARY:Boat Inspection
DESCRIPTION:Sign up is at the club.
URL:https://swyc.com/event/boat-inspection/
LOCATION:Salem Willows Yacht Club\, 190 Fort Ave\, Salem\, MA\, 01970\, United States
CATEGORIES:Education,Member Event,On the Water
ORGANIZER;CN="Anne Olenio":MAILTO:aolenio16@gmail.com
END:VEVENT
END:VCALENDAR