BEGIN:VCALENDAR
VERSION:2.0
PRODID:-//Salem Willows Yacht Club - ECPv6.15.20//NONSGML v1.0//EN
CALSCALE:GREGORIAN
METHOD:PUBLISH
X-ORIGINAL-URL:https://swyc.com
X-WR-CALDESC:Events for Salem Willows Yacht Club
REFRESH-INTERVAL;VALUE=DURATION:PT1H
X-Robots-Tag:noindex
X-PUBLISHED-TTL:PT1H
BEGIN:VTIMEZONE
TZID:America/New_York
BEGIN:DAYLIGHT
TZOFFSETFROM:-0500
TZOFFSETTO:-0400
TZNAME:EDT
DTSTART:20180311T070000
END:DAYLIGHT
BEGIN:STANDARD
TZOFFSETFROM:-0400
TZOFFSETTO:-0500
TZNAME:EST
DTSTART:20181104T060000
END:STANDARD
BEGIN:DAYLIGHT
TZOFFSETFROM:-0500
TZOFFSETTO:-0400
TZNAME:EDT
DTSTART:20190310T070000
END:DAYLIGHT
BEGIN:STANDARD
TZOFFSETFROM:-0400
TZOFFSETTO:-0500
TZNAME:EST
DTSTART:20191103T060000
END:STANDARD
BEGIN:DAYLIGHT
TZOFFSETFROM:-0500
TZOFFSETTO:-0400
TZNAME:EDT
DTSTART:20200308T070000
END:DAYLIGHT
BEGIN:STANDARD
TZOFFSETFROM:-0400
TZOFFSETTO:-0500
TZNAME:EST
DTSTART:20201101T060000
END:STANDARD
BEGIN:DAYLIGHT
TZOFFSETFROM:-0500
TZOFFSETTO:-0400
TZNAME:EDT
DTSTART:20210314T070000
END:DAYLIGHT
BEGIN:STANDARD
TZOFFSETFROM:-0400
TZOFFSETTO:-0500
TZNAME:EST
DTSTART:20211107T060000
END:STANDARD
BEGIN:DAYLIGHT
TZOFFSETFROM:-0500
TZOFFSETTO:-0400
TZNAME:EDT
DTSTART:20220313T070000
END:DAYLIGHT
BEGIN:STANDARD
TZOFFSETFROM:-0400
TZOFFSETTO:-0500
TZNAME:EST
DTSTART:20221106T060000
END:STANDARD
END:VTIMEZONE
BEGIN:VTIMEZONE
TZID:America/New_York
BEGIN:DAYLIGHT
TZOFFSETFROM:-0500
TZOFFSETTO:-0400
TZNAME:EDT
DTSTART:20180311T070000
END:DAYLIGHT
BEGIN:STANDARD
TZOFFSETFROM:-0400
TZOFFSETTO:-0500
TZNAME:EST
DTSTART:20181104T060000
END:STANDARD
BEGIN:DAYLIGHT
TZOFFSETFROM:-0500
TZOFFSETTO:-0400
TZNAME:EDT
DTSTART:20190310T070000
END:DAYLIGHT
BEGIN:STANDARD
TZOFFSETFROM:-0400
TZOFFSETTO:-0500
TZNAME:EST
DTSTART:20191103T060000
END:STANDARD
BEGIN:DAYLIGHT
TZOFFSETFROM:-0500
TZOFFSETTO:-0400
TZNAME:EDT
DTSTART:20200308T070000
END:DAYLIGHT
BEGIN:STANDARD
TZOFFSETFROM:-0400
TZOFFSETTO:-0500
TZNAME:EST
DTSTART:20201101T060000
END:STANDARD
END:VTIMEZONE
BEGIN:VEVENT
DTSTART;TZID=America/New_York:20210919T120000
DTEND;TZID=America/New_York:20210919T210000
DTSTAMP:20260424T101153
CREATED:20210621T152607Z
LAST-MODIFIED:20220910T124124Z
UID:3111-1632052800-1632085200@swyc.com
SUMMARY:Fall Classic Race
DESCRIPTION:Notice of Change of Date\nPlease note the date of the last pursuit race of the season\, The Fall Classic Race\, has been changed to Sunday\, September 19th at noon.  The race will be followed by a Racers’ potluck & awards ceremony.  More information & registration information will be sent out 2 weeks before the race. \nemail Jessica_Eddy@icloud.com with any questions
URL:https://swyc.com/event/fall-classic-race/
LOCATION:Salem Willows Yacht Club\, 190 Fort Ave\, Salem\, MA\, 01970\, United States
CATEGORIES:Entertainment,On the Water
ATTACH;FMTTYPE=image/jpeg:https://swyc.com/wp-content/uploads/2017/03/15015.jpg
END:VEVENT
BEGIN:VEVENT
DTSTART;TZID=America/New_York:20210808T150000
DTEND;TZID=America/New_York:20210808T210000
DTSTAMP:20260424T101153
CREATED:20210621T152237Z
LAST-MODIFIED:20220910T124125Z
UID:3102-1628434800-1628456400@swyc.com
SUMMARY:Heritage Days Race
DESCRIPTION:Race\, Pizza & Ice Cream Social
URL:https://swyc.com/event/heritage-days-race-2/
LOCATION:Salem Willows Yacht Club\, 190 Fort Ave\, Salem\, MA\, 01970\, United States
CATEGORIES:Entertainment,On the Water
ATTACH;FMTTYPE=image/jpeg:https://swyc.com/wp-content/uploads/2017/03/2016-08-07-11.50.35.jpg
END:VEVENT
BEGIN:VEVENT
DTSTART;TZID=America/New_York:20210727T130000
DTEND;TZID=America/New_York:20210727T170000
DTSTAMP:20260424T101153
CREATED:20210708T142629Z
LAST-MODIFIED:20220910T124125Z
UID:3155-1627390800-1627405200@swyc.com
SUMMARY:Veterans Appreciation Day 2021
DESCRIPTION:The Board of Governors has decided that we will once again host a Veterans Appreciation Day. It will take place on Tuesday\, 27 July from 1 – 4 PM. (Rain date is the 28th). The agenda is as follows: Opening Ceremony\, an hour and a half cruise around the Sound – sail or power – followed by a fantastic cookout! \n\nThis event is open – free of charge – to all our SWYC members who served or are serving in the armed forces. So\, if you would like to attend\, please contact Vice Commodore Stott Hiltunen [shilt6511@gmail.com] no later than Friday the 23d. \n\nIt’s going to be a great Day! Hope you can be a part of it!
URL:https://swyc.com/event/veterans-appreciation-day-2021/
LOCATION:Salem Willows Yacht Club\, 190 Fort Ave\, Salem\, MA\, 01970\, United States
CATEGORIES:On the Water
ATTACH;FMTTYPE=image/jpeg:https://swyc.com/wp-content/uploads/2019/10/ajax-request.jpg
END:VEVENT
BEGIN:VEVENT
DTSTART;TZID=America/New_York:20210710T140000
DTEND;TZID=America/New_York:20210710T170000
DTSTAMP:20260424T101153
CREATED:20210708T142811Z
LAST-MODIFIED:20220910T124126Z
UID:3158-1625925600-1625936400@swyc.com
SUMMARY:Firecracker 500
DESCRIPTION:The Firecracker 500 is this Saturday July 10th at 2:00.  The weather is looking much better than last Saturday.  Today is the last day to register.  Pursuit races are a lot of fun.  There is no hectic start as each boat is assigned a start time based on their boat’s handicap.  Boats should complete the course around the same time giving an exciting finish.  Afterwards\, please share some post-race camaraderie with the race results and awards ceremony.   If you are sticking around please sign up for the Wine Tasting (6:00pm- see previous emails).  If you have any questions about racing or you would like to register your boat\, please email the Fleet Captain Jessica Eddy-Storey at  Jessica_Eddy@me.com with your specific boat information needed to get your PHRF base rating (handicap) including: \n  \nBoat Type & Size \nBoat Name \nType of prop: Solid\, Folding or Outboard \n  \nExamples:     Catalina 27\, Sea-Renity\, Outboard;  \nPearson 26\, Flying Kestrel\, Folding Prop \n  \nMark your calendar for additional races: \nHeritage Day August 8th – 3pm followed by Pizza & Ice Cream Social at 6 with Award Ceremony for racers \nFall Classic Race – September 18th – Noon followed by Racers Pot Luck Supper & Award Ceremony for racers \n  \nDO NOT REPLY TO THIS EMAIL.  EMAIL JESSICA_EDDY@ME.COM
URL:https://swyc.com/event/firecracker-500-2/
LOCATION:Salem Willows Yacht Club\, 190 Fort Ave\, Salem\, MA\, 01970\, United States
CATEGORIES:On the Water
ATTACH;FMTTYPE=image/jpeg:https://swyc.com/wp-content/uploads/2017/03/15020.jpg
END:VEVENT
BEGIN:VEVENT
DTSTART;TZID=America/New_York:20210703T120000
DTEND;TZID=America/New_York:20210703T170000
DTSTAMP:20260424T101153
CREATED:20210621T151824Z
LAST-MODIFIED:20220910T124127Z
UID:3092-1625313600-1625331600@swyc.com
SUMMARY:Firecracker 500 (postponed) & Hot Dogs
DESCRIPTION:Firecracker 500 Pursuit Race \n  \nCalling all sailors at SWYC! The first of 3 pursuit races\, The Firecracker 500\, is scheduled for Saturday July 3rd at Noon.  Welcome back\, racers! If you are new to racing this is a great way to start.  A pursuit style race has everyone starting at a different time depending on handicap so there are no “starting anxiety” or congestion at the starting line.  We are going to have a great time racing & please stick around for the Welcome Back Hot Dog Social for the awards ceremony & some much needed catching up & camaraderie.  \n  \nIf you would like to register your boat or have any questions\, please email Fleet Captain Jessica Eddy-Storey at  Jessica_Eddy@me.com with your specific boat information needed to get your PHRF rating (handicap) including: \n  \nBoat Type & Size \nBoat Name \nType of prop: Solid\, Folding or Outboard \n  \nExamples:     Catalina 27\, Sea-Renity\, Outboard;  \nPearson 26\, Flying Kestrel\, Folding Prop \n  \nMark your calendar with this season’s race dates: \n  \nFirecracker 500 Race –  Noon  Followed by Hot Dog Bar at 4pm with Award Ceremony for racers \nHeritage Day August 8th –  3pm  Followed by Pizza & Ice Cream Social at 6 with Award Ceremony for racers \nFall Classic Race – September 18th – Noon followed by Racers Pot Luck Supper  & Award Ceremony \n  \nPlease remember to email Elvira at costumediva14@gmail.com to sign up for the Welcome Back Hot Dog Bar & include the number of people attending. $5/pp & children under 3 eat free.  \n  \nPLEASE DO NOT REPLY TO THIS EMAIL. \nEmail Jessica_Eddy@me.com to Register for the race. \nHot Dog Bar \nJuly 3rd      4:00pm (or 1600\, whichever you prefer) \n$5 per person (under 3 – free) \nHot Dogs with Buns (veggie dogs for our vegetarian and vegan members) \nAssorted toppings to include: \nrelish\, ketchup\, onions\, chili\, queso cheese\, pineapple \nsauerkraut\, baked beans\, bacon\, salsa\, tomatoes\, shredded cheese \n(other suggestions are welcome) \nPotato Salad\, Cole Slaw and Macaroni Salad \nSoda and water and chips will be provided. \nBYOB \nAll food will be served via buffet like by masked and gloved volunteers to keep this as comfortable for everyone as possible. \nNeed 4 people to help with set-up and/or cleanup and/or serving \nWhat a great way to work off some of your hours. \nLet me know when you sign up if you would like a veggie dog or two. \nTo sign up – email me at Elvira.Schoenthal@gmail.com. I will respond to your email and let you know I got it. Cut-off date is July 1st\, Thursday. \nThis will be the only way to sign up as there will be no signup at the club.
URL:https://swyc.com/event/firecracker-500/
LOCATION:Salem Willows Yacht Club\, 190 Fort Ave\, Salem\, MA\, 01970\, United States
CATEGORIES:Entertainment,On the Water
ATTACH;FMTTYPE=image/jpeg:https://swyc.com/wp-content/uploads/2019/07/P1020129.jpg
END:VEVENT
BEGIN:VEVENT
DTSTART;TZID=America/New_York:20210626T083000
DTEND;TZID=America/New_York:20210626T170000
DTSTAMP:20260424T101154
CREATED:20210620T152519Z
LAST-MODIFIED:20220910T124127Z
UID:3080-1624696200-1624726800@swyc.com
SUMMARY:Coast Guard Auxiliary Vessel Inspections
DESCRIPTION:The Coast Guard Auxiliary will be conducting courtesy Vessel Exams on Saturday\, June 26. Due to relaxed COVID 19 restrictions we will be able to do the exams on the moorings\, so there is no need to bring your boats to the main float. This change means we can start the Vessel Exams at 8:30 am instead of waiting for the tide. If you wish to sign up for your courtesy exam\, PLEASE DO NOT REPLY TO THIS EMAIL- rather send an email to Anne Olenio at: \naolenio16@gmail.com\nWe look forward to seeing you on Saturday.\n\nAnne Olenio\nUS Coast Guard Auxiliary \n\nIn preparation for boating season this year\, now is a good time to check your USCG required equipment and replace any equipment that is outdated or worn out.  This year’s SWYC Annual USCG Auxiliary Vessel Inspection Day is scheduled for Saturday June 26th.  There will be “Federal Equipment Requirements and Safety Booklets” available inside the Club in advance of the event.  Be sure to take a look at requirements and purchase new flares or fire extinguishers in advance\, if needed. \nThis year\, due to Covid-19 restrictions\, we will be doing the Vessel Exams on the dock beginning at 10:00 for shallow draft boats and doing deep draft boats by high tide.  A signup sheet will be posted on the Club bulletin board around the first week of June. \nFor any information or questions\, please contact Anne Olenio at aolenio16@gmail.com . \n  \nAnne Olenio \nUSCG Auxiliary
URL:https://swyc.com/event/coast-guard-auxiliary-vessel-inspections/
LOCATION:Salem Willows Yacht Club\, 190 Fort Ave\, Salem\, MA\, 01970\, United States
CATEGORIES:On the Water
ATTACH;FMTTYPE=image/jpeg:https://swyc.com/wp-content/uploads/2021/06/Vessel-ssafety-check-e1624202957414.jpg
ORGANIZER;CN="Anne Olenio":MAILTO:aolenio16@gmail.com
END:VEVENT
BEGIN:VEVENT
DTSTART;TZID=America/New_York:20200912T120000
DTEND;TZID=America/New_York:20200912T170000
DTSTAMP:20260424T101154
CREATED:20200903T131149Z
LAST-MODIFIED:20220910T124130Z
UID:2876-1599912000-1599930000@swyc.com
SUMMARY:2020 Fall Pursuit Race
DESCRIPTION:Hello again racers! The final race of the season is fast approaching.  The SWYC Fall Pursuit will be held Saturday\, September 12th at NOON. A few weeks ago we held the Heritage Days race and had almost a dozen boats compete.  Again\, we hope you can enjoy an afternoon of racing.\n\nEach boat will be double handed. Racers will take their own start and finish time and report them to the fleet captain where your position will be calculated. You will be notified of your final placement via email and any awards will be left at the club after the results are determined.\n\n\nAnyone interested in the Fall Pursuit\, please send your email to: clydeo300@comcast.net AND quiltedsailor@verizon.net by THURSDAY\, September 10th.  Please include your exact boat description\, including whether you have a folding prop or an outboard that can be raised completely out of the water\, your boat name and sail number if you have one.  Those who sign up for the race will be notified of the course details and instructions via return email.\n\nWe hope to see you on the 12th.
URL:https://swyc.com/event/2020-fall-pursuit-race/
LOCATION:Salem Willows Yacht Club\, 190 Fort Ave\, Salem\, MA\, 01970\, United States
CATEGORIES:On the Water
ATTACH;FMTTYPE=image/jpeg:https://swyc.com/wp-content/uploads/2018/07/Dave-Lewis-_DSC4102.jpg
ORGANIZER;CN="Anne Olenio":MAILTO:aolenio16@gmail.com
END:VEVENT
BEGIN:VEVENT
DTSTART;TZID=America/New_York:20200809T120000
DTEND;TZID=America/New_York:20200809T170000
DTSTAMP:20260424T101154
CREATED:20200806T133230Z
LAST-MODIFIED:20220910T124131Z
UID:2837-1596974400-1596992400@swyc.com
SUMMARY:Heritage Days Pursuit Race
DESCRIPTION:Hello racers! The Heritage Days Pursuit will be held this Sunday\, August 9th at NOON. Each boat will be double handed. Racers will take their own start and finish time and report them to the fleet captain where your position will be calculated. You will be notified of your final placement via email and any awards will be left at the club after the results are determined. \nWhile we are not able to get together in person to celebrate\, we hope this will at least let some of you enjoy an afternoon of racing. \nAnyone interested in the Heritage Days race\, please send your email to: FleetCaptain@swyc.com AND quiltedsailor@verizon.net by FRIDAY Those who sign up for the race will be notified of the course details and instructions via return email. \nWe hope to see you on the water. \nAnne Olenio Fleet Captain
URL:https://swyc.com/event/heritage-days-pursuit-race/
LOCATION:Salem Willows Yacht Club\, 190 Fort Ave\, Salem\, MA\, 01970\, United States
CATEGORIES:On the Water
ATTACH;FMTTYPE=image/jpeg:https://swyc.com/wp-content/uploads/2019/07/DSCN2247.jpg
END:VEVENT
BEGIN:VEVENT
DTSTART;VALUE=DATE:20191007
DTEND;VALUE=DATE:20191008
DTSTAMP:20260424T101154
CREATED:20190918T161427Z
LAST-MODIFIED:20220910T124135Z
UID:2505-1570406400-1570492799@swyc.com
SUMMARY:Last Day of Launch Service
DESCRIPTION:Plan accordingly!
URL:https://swyc.com/event/last-day-of-launch-service/
LOCATION:Salem Willows Yacht Club\, 190 Fort Ave\, Salem\, MA\, 01970\, United States
CATEGORIES:On the Water
ATTACH;FMTTYPE=image/png:https://swyc.com/wp-content/uploads/2017/03/launching-the-floats.png
END:VEVENT
BEGIN:VEVENT
DTSTART;TZID=America/New_York:20190809T000000
DTEND;TZID=America/New_York:20190812T000000
DTSTAMP:20260424T101154
CREATED:20190430T133524Z
LAST-MODIFIED:20220910T124622Z
UID:1851-1565308800-1565568000@swyc.com
SUMMARY:USCG Barque Eagle in Salem
DESCRIPTION:The United States Coast Guard Barque Eagle is sailing toward Salem this summer!  She will arrive mid-morning on Friday\, August 9 and she will be in port a Salem Wharf\, 10 Blaney Street\, until August 12. \nEAGLE\, also known as “America’s Tall Ship” is the largest tall ship flying the Stars and Stripes and the only square-rigger in U.S. government service. The ship was built in 1936 in Germany\, and commissioned as Horst Wessel\, one of three sail training ships operated by the pre-World War II German navy. At the close of World War II\, Horst Wessel was taken as a war reparation by the United States\, recommissioned as the U.S. Coast Guard Cutter Eagle and sailed to New London\, Connecticut. Eagle provides an unparalleled at-sea leadership and professional development experience for future officers of the U.S. Coast Guard. \nLearn more about Eagle here.
URL:https://swyc.com/event/uscg-barque-eagle-in-salem/
LOCATION:Salem Wharf\, 10 Blaney Street\, Salem\, MA\, 01970\, United States
CATEGORIES:On the Water
ATTACH;FMTTYPE=image/jpeg:https://swyc.com/wp-content/uploads/2019/04/eagle-header-e1555098041119.jpg
END:VEVENT
BEGIN:VEVENT
DTSTART;TZID=America/New_York:20190731T130000
DTEND;TZID=America/New_York:20190731T160000
DTSTAMP:20260424T101154
CREATED:20190516T123421Z
LAST-MODIFIED:20220910T124142Z
UID:2053-1564578000-1564588800@swyc.com
SUMMARY:Veteran's Appreciation Day - rain date
DESCRIPTION:Wednesday\, July 17 with a rain date of Wednesday\, July 31st \nTime: from 1 – 4 PM. We begin with a short ceremony\, followed by a 1 1/2 hour cruise around Salem Sound\, and finish with a cookout.
URL:https://swyc.com/event/veterans-appreciation-day-rain-date/
LOCATION:Salem Willows Yacht Club\, 190 Fort Ave\, Salem\, MA\, 01970\, United States
CATEGORIES:Entertainment,On the Water
ATTACH;FMTTYPE=image/jpeg:https://swyc.com/wp-content/uploads/2017/03/IMG_0644.jpg
END:VEVENT
BEGIN:VEVENT
DTSTART;TZID=America/New_York:20190717T130000
DTEND;TZID=America/New_York:20190717T160000
DTSTAMP:20260424T101154
CREATED:20190430T133521Z
LAST-MODIFIED:20220910T124145Z
UID:1846-1563368400-1563379200@swyc.com
SUMMARY:Veterans Appreciation Day
DESCRIPTION:Wednesday\, July 17 with a rain date of Wednesday\, July 31st \nTime: from 1 – 4 PM. We begin with a short ceremony\, followed by a 1 1/2 hour cruise around Salem Sound\, and finish with a cookout. \nHere are a few things to keep in mind:\nInvitations. Please invite a service member from your family or someone who is close to you to this really enjoyable event. Unfortunately\, space is limited so please invite a service member\, not his entire family. Please send the name of your guest to Mike Madison at: michaeljmadison@comcast.net.\nVolunteers. If you would like to volunteer for this event – hours count towards your work assessment – contact Vice Commodore Bill Lord at: williamlord2001@yahoo.com.\nFleet. If you would like to skipper a boat for our veterans contact Fleet Captain Sue Lewis at: sue4750@gmail.com.\nSo\, we are looking forward to hearing from you. This is one of the most worthwhile and enjoyable events of the season. So\, get involved! You’ll be glad you did.
URL:https://swyc.com/event/veterans-appreciation-day/
LOCATION:Salem Willows Yacht Club\, 190 Fort Ave\, Salem\, MA\, 01970\, United States
CATEGORIES:Entertainment,On the Water
ATTACH;FMTTYPE=image/jpeg:https://swyc.com/wp-content/uploads/2017/03/IMG_0644.jpg
END:VEVENT
BEGIN:VEVENT
DTSTART;TZID=America/New_York:20190622T080000
DTEND;TZID=America/New_York:20190622T120000
DTSTAMP:20260424T101154
CREATED:20190430T133512Z
LAST-MODIFIED:20220910T123602Z
UID:1832-1561190400-1561204800@swyc.com
SUMMARY:US Coast Guard Aux Boating Inspections
DESCRIPTION:As we are preparing our boats for the 2019 recreational boating season\, now is a good time to check your USCG required equipment an replace any equipment which is outdated or worn out.  The SWYC Annual USCGAUX Vessel Inspection day is scheduled for Saturday June 22nd\, from 8am until finished.  There will be “Federal Equipment Requirements and Safety Booklets” available inside the Club in advance of the June 22nd date.  Be sure to take a look at the requirements and purchase new flares or fire extinguishers in advance\, if needed.  A signup sheet will be posted on the Club Bulletin board on or about the first week of June.  For any information or questions\, please contact Steve Daly at ssdaly@verizon.net.    If you cannot make the inspections on June 22nd\, please contact Anne Olenio at clydeo300@comcast.net to schedule another day. \n  \nSteve Daly\, USCG Aux
URL:https://swyc.com/event/us-coast-guard-aux-boating-inspections/
LOCATION:Salem Willows Yacht Club\, 190 Fort Ave\, Salem\, MA\, 01970\, United States
CATEGORIES:Education,On the Water
ATTACH;FMTTYPE=image/png:https://swyc.com/wp-content/uploads/2019/04/Boats-in-Marina-logo.png
ORGANIZER;CN="Steve Daly":MAILTO:ssdaly@verizon.net
END:VEVENT
END:VCALENDAR